BEGIN:VCALENDAR
VERSION:2.0
PRODID:-//Kraft Kennedy - ECPv6.15.20//NONSGML v1.0//EN
CALSCALE:GREGORIAN
METHOD:PUBLISH
X-WR-CALNAME:Kraft Kennedy
X-ORIGINAL-URL:https://www.kraftkennedy.com
X-WR-CALDESC:Events for Kraft Kennedy
REFRESH-INTERVAL;VALUE=DURATION:PT1H
X-Robots-Tag:noindex
X-PUBLISHED-TTL:PT1H
BEGIN:VTIMEZONE
TZID:America/New_York
BEGIN:DAYLIGHT
TZOFFSETFROM:-0500
TZOFFSETTO:-0400
TZNAME:EDT
DTSTART:20240310T070000
END:DAYLIGHT
BEGIN:STANDARD
TZOFFSETFROM:-0400
TZOFFSETTO:-0500
TZNAME:EST
DTSTART:20241103T060000
END:STANDARD
BEGIN:DAYLIGHT
TZOFFSETFROM:-0500
TZOFFSETTO:-0400
TZNAME:EDT
DTSTART:20250309T070000
END:DAYLIGHT
BEGIN:STANDARD
TZOFFSETFROM:-0400
TZOFFSETTO:-0500
TZNAME:EST
DTSTART:20251102T060000
END:STANDARD
BEGIN:DAYLIGHT
TZOFFSETFROM:-0500
TZOFFSETTO:-0400
TZNAME:EDT
DTSTART:20260308T070000
END:DAYLIGHT
BEGIN:STANDARD
TZOFFSETFROM:-0400
TZOFFSETTO:-0500
TZNAME:EST
DTSTART:20261101T060000
END:STANDARD
END:VTIMEZONE
BEGIN:VTIMEZONE
TZID:America/Denver
BEGIN:DAYLIGHT
TZOFFSETFROM:-0700
TZOFFSETTO:-0600
TZNAME:MDT
DTSTART:20240310T090000
END:DAYLIGHT
BEGIN:STANDARD
TZOFFSETFROM:-0600
TZOFFSETTO:-0700
TZNAME:MST
DTSTART:20241103T080000
END:STANDARD
BEGIN:DAYLIGHT
TZOFFSETFROM:-0700
TZOFFSETTO:-0600
TZNAME:MDT
DTSTART:20250309T090000
END:DAYLIGHT
BEGIN:STANDARD
TZOFFSETFROM:-0600
TZOFFSETTO:-0700
TZNAME:MST
DTSTART:20251102T080000
END:STANDARD
BEGIN:DAYLIGHT
TZOFFSETFROM:-0700
TZOFFSETTO:-0600
TZNAME:MDT
DTSTART:20260308T090000
END:DAYLIGHT
BEGIN:STANDARD
TZOFFSETFROM:-0600
TZOFFSETTO:-0700
TZNAME:MST
DTSTART:20261101T080000
END:STANDARD
END:VTIMEZONE
BEGIN:VTIMEZONE
TZID:America/Chicago
BEGIN:DAYLIGHT
TZOFFSETFROM:-0600
TZOFFSETTO:-0500
TZNAME:CDT
DTSTART:20240310T080000
END:DAYLIGHT
BEGIN:STANDARD
TZOFFSETFROM:-0500
TZOFFSETTO:-0600
TZNAME:CST
DTSTART:20241103T070000
END:STANDARD
BEGIN:DAYLIGHT
TZOFFSETFROM:-0600
TZOFFSETTO:-0500
TZNAME:CDT
DTSTART:20250309T080000
END:DAYLIGHT
BEGIN:STANDARD
TZOFFSETFROM:-0500
TZOFFSETTO:-0600
TZNAME:CST
DTSTART:20251102T070000
END:STANDARD
BEGIN:DAYLIGHT
TZOFFSETFROM:-0600
TZOFFSETTO:-0500
TZNAME:CDT
DTSTART:20260308T080000
END:DAYLIGHT
BEGIN:STANDARD
TZOFFSETFROM:-0500
TZOFFSETTO:-0600
TZNAME:CST
DTSTART:20261101T070000
END:STANDARD
END:VTIMEZONE
BEGIN:VEVENT
DTSTART;TZID=America/New_York:20250710T120000
DTEND;TZID=America/New_York:20250710T140000
DTSTAMP:20260421T043053
CREATED:20250425T200350Z
LAST-MODIFIED:20250617T171752Z
UID:76306299-1752148800-1752156000@www.kraftkennedy.com
SUMMARY:ALA Capital Chapter Networking Lunch
DESCRIPTION:ALA Capital Chapter Networking Lunch\nStacy Jenkins will gather with the Association of Legal Administrators (ALA) Capital Chapter community for an afternoon lunch & presentation of  the Toni K. Allen Scholarship. \nThe ALA Capital Chapter Foundation has been granting college scholarships since its inception. In 2003\, the Scholarship Program was re-named the Toni K. Allen Scholarship Program in memory of one of the founding members of the Foundation. The Scholarship Program is funded by the Capital Chapter Foundation and is managed by the Chapter’s Vice President and Vice President-Elect of Community Services. Eligible DC Public/Charter School and DC homeschooled students may apply to win a scholarship. Beyond financial support\, the scholarship program also assigns an ALACC member or business partner to be the recipient’s mentor throughout college. Many recipients have asserted that the mentoring experience was the most beneficial outcome of winning the scholarship. \nWhen: Thursday\, July 10\, 2025  |  12:00 PM – 2:00 PM\nWhere: Cranes \nStay in the know about our ALA activities and more – subscribe here.\nFollow us on LinkedIn and check out our upcoming events.
URL:https://www.kraftkennedy.com/event/ala-capital-chapter-networking-lunch/
CATEGORIES:ALA,Live Events
ATTACH;FMTTYPE=image/jpeg:https://www.kraftkennedy.com/wp-content/uploads/2025/04/ALA-Cap-Chap-July-2025-Networking-Lunch-and-Toni-K-Allen-Scholarchip-Presentation-7_10-scaled.jpg
END:VEVENT
BEGIN:VEVENT
DTSTART;TZID=America/New_York:20250715T150000
DTEND;TZID=America/New_York:20250715T190000
DTSTAMP:20260421T043053
CREATED:20250428T145438Z
LAST-MODIFIED:20250701T143538Z
UID:76306303-1752591600-1752606000@www.kraftkennedy.com
SUMMARY:Education Event & Summer Social
DESCRIPTION:Education Event & Summer Social\nCaesar Rodriguez and Ryan Weatherby will gather with Association of Legal Administrators (ALA) Chicago friends to connect\, exchange knowledge\, and celebrate summer during the education event and summer social. \nWhen: Tuesday\, July 15\, 2025  |  3:00 PM – 7:00 PM\nWhere: Morgan’s on Fulton \nStay in the know about our ALA activities and more – subscribe here.\nFollow us on LinkedIn and check out our upcoming events.
URL:https://www.kraftkennedy.com/event/education-event-summer-social/
CATEGORIES:ALA,Live Events
ATTACH;FMTTYPE=image/jpeg:https://www.kraftkennedy.com/wp-content/uploads/2025/04/ALA-Chicago-July-2025-BiMonthly-Education-Event-and-Summer-Social-7_15_25-scaled.jpg
END:VEVENT
BEGIN:VEVENT
DTSTART;TZID=America/New_York:20250715T180000
DTEND;TZID=America/New_York:20250715T210000
DTSTAMP:20260421T043053
CREATED:20250516T170817Z
LAST-MODIFIED:20250701T144229Z
UID:76306470-1752602400-1752613200@www.kraftkennedy.com
SUMMARY:ALA NYC Summer Party
DESCRIPTION:ALA NYC Summer Party\nThe Kraft Kennedy team looks forward to an evening of conversation\, connection\, and celebrating summer with Association of Legal Administrators (ALA) NYC friends. \nWhen: Tuesday\, July 15\, 2025  |  6:00 PM – 9:00 PM\nWhere: The Kimberly Hotel Rooftop \nStay in the know about our ALA activities and more – subscribe here.\nFollow us on LinkedIn and check out our upcoming events.
URL:https://www.kraftkennedy.com/event/ala-nyc-summer-party/
CATEGORIES:ALA,Live Events
ATTACH;FMTTYPE=image/png:https://www.kraftkennedy.com/wp-content/uploads/2025/05/ALA-NYC-July-2025-Summer-Party-7_15_25.png
END:VEVENT
BEGIN:VEVENT
DTSTART;TZID=America/Denver:20250722T163000
DTEND;TZID=America/Denver:20250722T183000
DTSTAMP:20260421T043053
CREATED:20250702T154818Z
LAST-MODIFIED:20250702T154818Z
UID:76306765-1753201800-1753209000@www.kraftkennedy.com
SUMMARY:ILTA 2025  San Francisco Social
DESCRIPTION:ILTA 2025 San Francisco Social\nThe Kraft Kennedy Team and Actionstep will gather with fellow ILTA members and legal tech professionals in the San Francisco community for a lively evening of networking\, conversation\, and cocktails. \nWhen: Tuesday\, July 22\, 2025  |  4:30 PM – 6:30 PM\nWhere: Toy Soldier \nStay in the know about our ILTA activities and more – subscribe here. \nFollow us on LinkedIn and check out our upcoming events.
URL:https://www.kraftkennedy.com/event/ilta-2025-san-francisco-social/
CATEGORIES:ILTA,Live Events
ATTACH;FMTTYPE=image/jpeg:https://www.kraftkennedy.com/wp-content/uploads/2025/07/ILTA-July-2025-San-Fran-Social--scaled.jpg
END:VEVENT
BEGIN:VEVENT
DTSTART;TZID=America/Chicago:20250723T114500
DTEND;TZID=America/Chicago:20250723T131500
DTSTAMP:20260421T043053
CREATED:20250702T133651Z
LAST-MODIFIED:20250715T133900Z
UID:76306760-1753271100-1753276500@www.kraftkennedy.com
SUMMARY:The Legal IT Innovation Forecast - San Francisco
DESCRIPTION:San Francisco Lunch & Learn\nAssociation of Legal Administrators (ALA) Golden Gate members are invited for a luncheon about the strategic role of technology and how understanding the innovation cycle prepares law firm leaders for effective planning. \nFacilitated by Chris Arrowsmith and Joe Hoegler of Kraft Kennedy\, discussion topics will include: \n\nLearning from the past: Technology patterns that inform how we prepare for the future.\nAI in Law Firms: Current strategies.\nCybersecurity: Addressing client requests\, practical priorities\, & more.\nFuture planning: Investing in productivity\, enhancing client experience\, and driving growth.\n\nRegister Here\nWhen: Wednesday\, July 23\, 2025  |  11:45 AM – 1:15 PM \nWhere: Hersh FamilyLaw Practice\, P.C. \nStay in the know about our ALA activities and more – subscribe here.\nFollow us on LinkedIn and check out our upcoming events.
URL:https://www.kraftkennedy.com/event/the-legal-it-innovation-forecast-golden-gate/
LOCATION:Hersh FamilyLaw Practice\, P.C.
CATEGORIES:ALA,Live Events
ATTACH;FMTTYPE=image/jpeg:https://www.kraftkennedy.com/wp-content/uploads/2025/07/ALA-Golden-Gate-SF-July-2025-Lunch-and-Learn-7_23_25-scaled.jpg
END:VEVENT
BEGIN:VEVENT
DTSTART;TZID=America/Chicago:20250729T114500
DTEND;TZID=America/Chicago:20250729T131500
DTSTAMP:20260421T043053
CREATED:20250701T205552Z
LAST-MODIFIED:20250702T131605Z
UID:76306737-1753789500-1753794900@www.kraftkennedy.com
SUMMARY:The Legal IT Innovation Forecast - Boston
DESCRIPTION:ALA Boston Lunch & Learn\nAssociation of Legal Administrators (ALA) Boston members are invited for a luncheon conversation about the strategic role of technology and how understanding the innovation cycle prepares law firm leaders for effective planning. \nFacilitated by Jude Travers-Frazier and Beth Anne Stuebe of Kraft Kennedy\, discussion topics will include: \n\nLearning from the past: Technology patterns that inform how we prepare for the future.\nAI in Law Firms: Current strategies.\nCybersecurity: Addressing client requests\, practical priorities\, & more.\nFuture planning: Investing in productivity\, enhancing client experience\, and driving growth.\n\nRegister Here\nWhen: Tuesday\, July 29\, 2025  |  11:45 AM – 1:15 PM \nWhere: Greenberg Traurig\, LLP \nStay in the know about our ALA activities and more – subscribe here.\nFollow us on LinkedIn and check out our upcoming events.
URL:https://www.kraftkennedy.com/event/the-legal-it-innovation-forecast-boston/
LOCATION:Greenberg Traurig\, LLP
CATEGORIES:ALA,Live Events
ATTACH;FMTTYPE=image/jpeg:https://www.kraftkennedy.com/wp-content/uploads/2025/07/ALA-Boston-July-2025-Lunch-and-Learn-7_29_25-1-scaled.jpg
END:VEVENT
BEGIN:VEVENT
DTSTART;TZID=America/New_York:20250729T163000
DTEND;TZID=America/New_York:20250729T183000
DTSTAMP:20260421T043053
CREATED:20250626T192345Z
LAST-MODIFIED:20250626T192410Z
UID:76306741-1753806600-1753813800@www.kraftkennedy.com
SUMMARY:ILTA 2025 Boston Social
DESCRIPTION:ILTA 2025 Boston Social\nThe Kraft Kennedy Team\, Actionstep\, and SecurIT360 will gather with fellow ILTA members and legal tech professionals in the Boston community for a lively evening of networking\, conversation\, and cocktails. \nWhen: Tuesday\, July 29\, 2025  |  4:30 PM – 6:30 PM\nWhere: Joia Restaurant & Lounge \nStay in the know about our ILTA activities and more – subscribe here.\nFollow us on LinkedIn and check out our upcoming events.
URL:https://www.kraftkennedy.com/event/ilta-2025-boston-social/
CATEGORIES:ILTA,Live Events
ATTACH;FMTTYPE=image/jpeg:https://www.kraftkennedy.com/wp-content/uploads/2025/06/ILTA-2025-Boston-Social-7_29_25-scaled.jpg
END:VEVENT
END:VCALENDAR