BEGIN:VCALENDAR
VERSION:2.0
PRODID:-//Kraft Kennedy - ECPv6.15.20//NONSGML v1.0//EN
CALSCALE:GREGORIAN
METHOD:PUBLISH
X-ORIGINAL-URL:https://www.kraftkennedy.com
X-WR-CALDESC:Events for Kraft Kennedy
REFRESH-INTERVAL;VALUE=DURATION:PT1H
X-Robots-Tag:noindex
X-PUBLISHED-TTL:PT1H
BEGIN:VTIMEZONE
TZID:America/New_York
BEGIN:DAYLIGHT
TZOFFSETFROM:-0500
TZOFFSETTO:-0400
TZNAME:EDT
DTSTART:20230312T070000
END:DAYLIGHT
BEGIN:STANDARD
TZOFFSETFROM:-0400
TZOFFSETTO:-0500
TZNAME:EST
DTSTART:20231105T060000
END:STANDARD
BEGIN:DAYLIGHT
TZOFFSETFROM:-0500
TZOFFSETTO:-0400
TZNAME:EDT
DTSTART:20240310T070000
END:DAYLIGHT
BEGIN:STANDARD
TZOFFSETFROM:-0400
TZOFFSETTO:-0500
TZNAME:EST
DTSTART:20241103T060000
END:STANDARD
BEGIN:DAYLIGHT
TZOFFSETFROM:-0500
TZOFFSETTO:-0400
TZNAME:EDT
DTSTART:20250309T070000
END:DAYLIGHT
BEGIN:STANDARD
TZOFFSETFROM:-0400
TZOFFSETTO:-0500
TZNAME:EST
DTSTART:20251102T060000
END:STANDARD
END:VTIMEZONE
BEGIN:VEVENT
DTSTART;TZID=America/New_York:20240606T180000
DTEND;TZID=America/New_York:20240606T210000
DTSTAMP:20260422T074823
CREATED:20240516T201613Z
LAST-MODIFIED:20240516T201613Z
UID:76305010-1717696800-1717707600@www.kraftkennedy.com
SUMMARY:ALA Dallas BP & Member Social
DESCRIPTION:ALA Dallas BP & Member Social\nMartin is ready to bowl the night away with Association of Lagal Administrators (ALA) Dallas friends and peers during the BP & Member Social. \nWhen: Thursday\, June 6\, 2024  |  6:00 PM – 9:00 PM CDT\nWhere: Bowl & Barrel \nCheck out our upcoming events.
URL:https://www.kraftkennedy.com/event/ala-dallas-bp-member-social/
CATEGORIES:ALA,Live Events
ATTACH;FMTTYPE=image/jpeg:https://www.kraftkennedy.com/wp-content/uploads/2024/05/ALA-Dallas-BP-Member-Social-Bowl-and-Barrel-scaled-e1715882375126.jpg
END:VEVENT
BEGIN:VEVENT
DTSTART;TZID=America/New_York:20240620T121500
DTEND;TZID=America/New_York:20240620T140000
DTSTAMP:20260422T074823
CREATED:20240523T170224Z
LAST-MODIFIED:20240611T152611Z
UID:76305019-1718885700-1718892000@www.kraftkennedy.com
SUMMARY:ALA Boston June Quarterly Event
DESCRIPTION:ALA Boston June Quarterly Event\nThe Kraft Kennedy team anticipates an inspiring June Quarterly Event with Association of Legal Administrators (ALA) Boston friends and peers. The special guest speaker during this afternoon of conversation and connection will be retired Captain of the Patriots\, 3x Super Bowl Champion\, and 10x Pro Bowler\, Matthew Slater. \nWhen: Thursday\, June 20\, 2024  |  12:15 PM – 2:00 PM\nWhere: Boston Marriott Long Wharf \nCheck out our upcoming events.
URL:https://www.kraftkennedy.com/event/ala-boston-june-quarterly-event/
CATEGORIES:ALA,Live Events
ATTACH;FMTTYPE=image/jpeg:https://www.kraftkennedy.com/wp-content/uploads/2024/05/ALA-Boston-June-Quarterly-Event-scaled.jpg
END:VEVENT
BEGIN:VEVENT
DTSTART;TZID=America/New_York:20240626T113000
DTEND;TZID=America/New_York:20240626T130000
DTSTAMP:20260422T074823
CREATED:20240611T152517Z
LAST-MODIFIED:20240611T152517Z
UID:76305049-1719401400-1719406800@www.kraftkennedy.com
SUMMARY:ALA Central Florida Luncheon
DESCRIPTION:ALA Central Florida Luncheon\nMartin and Caesar look forward to an afternoon of knowledge-sharing during the June Luncheon with Association of Legal Administrators (ALA) Central Florida friends and peers where the topic of discussion will be Unlocking the Potential of the Legal Workplace. \nWhen: Wednesday\, June 26\, 2024  |  11:30 AM – 1:00 PM\nWhere: 390 N. Orange \nCheck out our upcoming events.
URL:https://www.kraftkennedy.com/event/ala-central-florida-luncheon/
CATEGORIES:ALA,Live Events
ATTACH;FMTTYPE=image/jpeg:https://www.kraftkennedy.com/wp-content/uploads/2024/06/ALA-Central-Florida-June-2024-Luncheon-scaled.jpg
END:VEVENT
END:VCALENDAR