BEGIN:VCALENDAR
VERSION:2.0
PRODID:-//Kraft Kennedy - ECPv6.15.20//NONSGML v1.0//EN
CALSCALE:GREGORIAN
METHOD:PUBLISH
X-WR-CALNAME:Kraft Kennedy
X-ORIGINAL-URL:https://www.kraftkennedy.com
X-WR-CALDESC:Events for Kraft Kennedy
REFRESH-INTERVAL;VALUE=DURATION:PT1H
X-Robots-Tag:noindex
X-PUBLISHED-TTL:PT1H
BEGIN:VTIMEZONE
TZID:America/New_York
BEGIN:DAYLIGHT
TZOFFSETFROM:-0500
TZOFFSETTO:-0400
TZNAME:EDT
DTSTART:20140309T070000
END:DAYLIGHT
BEGIN:STANDARD
TZOFFSETFROM:-0400
TZOFFSETTO:-0500
TZNAME:EST
DTSTART:20141102T060000
END:STANDARD
BEGIN:DAYLIGHT
TZOFFSETFROM:-0500
TZOFFSETTO:-0400
TZNAME:EDT
DTSTART:20150308T070000
END:DAYLIGHT
BEGIN:STANDARD
TZOFFSETFROM:-0400
TZOFFSETTO:-0500
TZNAME:EST
DTSTART:20151101T060000
END:STANDARD
BEGIN:DAYLIGHT
TZOFFSETFROM:-0500
TZOFFSETTO:-0400
TZNAME:EDT
DTSTART:20160313T070000
END:DAYLIGHT
BEGIN:STANDARD
TZOFFSETFROM:-0400
TZOFFSETTO:-0500
TZNAME:EST
DTSTART:20161106T060000
END:STANDARD
END:VTIMEZONE
BEGIN:VEVENT
DTSTART;TZID=America/New_York:20151009T090000
DTEND;TZID=America/New_York:20151009T113000
DTSTAMP:20260420T050843
CREATED:20151007T130659Z
LAST-MODIFIED:20151007T130659Z
UID:76277339-1444381200-1444390200@www.kraftkennedy.com
SUMMARY:Riding the Wave of Change
DESCRIPTION:Please join us at the October PLTG meeting where our guest speaker\, Neil Jacobs will present a program on change management.  \nThe cliché that has become a truism in any article or book written recently about change is that change is a constant. Engineering and managing change has become a must-have competency for leaders and organizational success has become heavily linked with a company’s ability to activate\, navigate and respond to change.  For some\, change is highly motivating and exciting\, presenting new opportunities and possibilities. For others\, change can be paralyzing and fear-inducing.  Change often arouses a flight or fight response in employees. In this session\, Neil Jacobs\, principal of MindsOpen\, a business psychology practice\, will: \n\nShare some of his experiences working on a significant change program at Scotland Yard\, the police service for London\, during one of it’s darkest periods\nDiscuss principles for managing change\nExplore the psychological impact on people faced with organizational change\n\nBio of Neil Jacobs\, MSc\, CPsychol\, AFBPsS \nNeil began his career working as a psychologist for the British Military\, where he found his niche profiling officers for specialist roles.   In 1999\, he joined Scotland Yard\, the police service for London and was soon appointed Head of Psychology. He worked on a range of high profile assignments including debriefing the UK police response to the 9/11 terrorist attacks and helping the organization learn from failed murder investigations\, kidnappings and child protection cases. In 2005 he was awarded a Fulbright scholarship to undertake research into domestic violence homicide in the United States. His last role at Scotland Yard was Director of Security Strategy for the London 2012 Olympic and Paralympic Games. In 2008\, Neil joined YSC\, a global leadership consulting firm.  After leading the East Coast business\, he was promoted to Managing Director and ran the Americas business.  He left YSC in 2014 to launch his own practice\, Minds Open\, working with individuals\, teams and organizations in the leadership\, culture and talent space. Neil coaches CEOs and other C-Suite executives and works with leadership teams to improve performance and shift culture.  His other areas of specialism include organizational development and change\, leveraging relationships\, debriefing major incidents and creating purpose and meaning for people and organizations. In addition to his business psychology work\, Neil is the owner and curator of The Road Gallery\, a contemporary gallery representing some of America’s finest emerging and established artists. \n  \nRSVP:  Register on the PLTG web site.
URL:https://www.kraftkennedy.com/event/riding-the-wave-of-change/
LOCATION:Kraft Kennedy\, 630 Third Avenue\, New York\, NY\, 10017\, United States
ATTACH;FMTTYPE=image/jpeg:https://www.kraftkennedy.com/wp-content/uploads/2015/10/Neil-Jacobs.jpg
END:VEVENT
BEGIN:VEVENT
DTSTART;TZID=America/New_York:20151022T080000
DTEND;TZID=America/New_York:20151024T170000
DTSTAMP:20260420T050843
CREATED:20151006T172918Z
LAST-MODIFIED:20200820T114959Z
UID:76277323-1445500800-1445706000@www.kraftkennedy.com
SUMMARY:ALA Business of Law Conference
DESCRIPTION:Evolving the Business of Law\nALA’s 2015 Business of Law Conferences provide identical education across three convenient U.S. geographical locations. The high caliber educational content is geared toward the needs of legal management leaders and functional specialists in the business of law. \nConference features: \n\nInsight on hot topics in today’s legal industry\nIntensive networking opportunities\nExperts on profitability\, innovation\, strategy\, leadership\, technology and more\nThe latest in legal management products\, market intelligence\, services and technology\nDeep-dive sessions covering communications\, finance\, human resources\, technology and operations\nContinuing Education Credits\n\nAnne Shackleford\, of ALA sponsor Kraft Kennedy will at the conference\, waiting to equip you with takeaways for the folks at home in Booth 35 during next week’s ALA Business of Law conference! Your odds are very good in our FitBit giveaway and Anne can also coordinate a discussion for your firm’s IT team on any of these cutting edge topics: \nInformation Security and Governance:  Security assessments\, policy\, digital forensics\nEnterprise Content Management:  DMS selection\, planning\, implementation\, integration\nDesktop Design and Integration:  Infrastructure\, storage\, deployment\, Windows 7/8/10\, Office 2013\,  BC/DR\, VDI \,Office 365\nInfrastructure & Data Center:  Design\, BC/DR\, Messaging\, VDI \,”the cloud”\, Office 365\nManaged Services & Support:  24/7 monitoring\, patching & support\nLegal Process Management:  Process Analysis/Pricing Initiatives\nManagement Consulting:  CIO Advisory Services\, Technology Review & Planning\nMessaging:  Exchange and Lync\, upgrades and implementations\, migrations\, performance remediation\, email retention and archiving \nHelp prepare your firm for the unexpected\, meet with Anne to qualify for a complimentary disaster recovery consultation. \n 
URL:https://www.kraftkennedy.com/event/ala-business-of-law-conference/
LOCATION:Paris Las Vegas\, Las Vegas\, NV\, United States
ATTACH;FMTTYPE=image/png:https://www.kraftkennedy.com/wp-content/uploads/2015/10/Kraft-Kennedy-2015-Web-Graphics-1-25-e1444155331945.png
END:VEVENT
BEGIN:VEVENT
DTSTART;TZID=America/New_York:20151028T120000
DTEND;TZID=America/New_York:20151028T130000
DTSTAMP:20260420T050843
CREATED:20150930T203550Z
LAST-MODIFIED:20150930T203550Z
UID:76277219-1446033600-1446037200@www.kraftkennedy.com
SUMMARY:Backup and Disaster Recovery Options for Small-Mid Sized Firms- ILTA Product Briefing
DESCRIPTION:Join Kraft Kennedy Practice Architect Jeff Silverman for a review of the backup and disaster recovery options we typically deploy for small-mid sized firms\, including alternatives to tape\, virtualization-aware solutions\, appliance-based solutions\, and software-based replication \nView the event recording here
URL:https://www.kraftkennedy.com/event/backup-and-disaster-recovery-options-for-small-mid-sized-firms-ilta-product-briefing/
LOCATION:Webinar
ATTACH;FMTTYPE=image/png:https://www.kraftkennedy.com/wp-content/uploads/2015/09/KK-IE11-10-e1444333049903.png
END:VEVENT
END:VCALENDAR