BEGIN:VCALENDAR
VERSION:2.0
PRODID:-//Kraft Kennedy - ECPv6.15.20//NONSGML v1.0//EN
CALSCALE:GREGORIAN
METHOD:PUBLISH
X-ORIGINAL-URL:https://www.kraftkennedy.com
X-WR-CALDESC:Events for Kraft Kennedy
REFRESH-INTERVAL;VALUE=DURATION:PT1H
X-Robots-Tag:noindex
X-PUBLISHED-TTL:PT1H
BEGIN:VTIMEZONE
TZID:America/Denver
BEGIN:DAYLIGHT
TZOFFSETFROM:-0700
TZOFFSETTO:-0600
TZNAME:MDT
DTSTART:20250309T090000
END:DAYLIGHT
BEGIN:STANDARD
TZOFFSETFROM:-0600
TZOFFSETTO:-0700
TZNAME:MST
DTSTART:20251102T080000
END:STANDARD
BEGIN:DAYLIGHT
TZOFFSETFROM:-0700
TZOFFSETTO:-0600
TZNAME:MDT
DTSTART:20260308T090000
END:DAYLIGHT
BEGIN:STANDARD
TZOFFSETFROM:-0600
TZOFFSETTO:-0700
TZNAME:MST
DTSTART:20261101T080000
END:STANDARD
BEGIN:DAYLIGHT
TZOFFSETFROM:-0700
TZOFFSETTO:-0600
TZNAME:MDT
DTSTART:20270314T090000
END:DAYLIGHT
BEGIN:STANDARD
TZOFFSETFROM:-0600
TZOFFSETTO:-0700
TZNAME:MST
DTSTART:20271107T080000
END:STANDARD
END:VTIMEZONE
BEGIN:VTIMEZONE
TZID:America/New_York
BEGIN:DAYLIGHT
TZOFFSETFROM:-0500
TZOFFSETTO:-0400
TZNAME:EDT
DTSTART:20250309T070000
END:DAYLIGHT
BEGIN:STANDARD
TZOFFSETFROM:-0400
TZOFFSETTO:-0500
TZNAME:EST
DTSTART:20251102T060000
END:STANDARD
BEGIN:DAYLIGHT
TZOFFSETFROM:-0500
TZOFFSETTO:-0400
TZNAME:EDT
DTSTART:20260308T070000
END:DAYLIGHT
BEGIN:STANDARD
TZOFFSETFROM:-0400
TZOFFSETTO:-0500
TZNAME:EST
DTSTART:20261101T060000
END:STANDARD
BEGIN:DAYLIGHT
TZOFFSETFROM:-0500
TZOFFSETTO:-0400
TZNAME:EDT
DTSTART:20270314T070000
END:DAYLIGHT
BEGIN:STANDARD
TZOFFSETFROM:-0400
TZOFFSETTO:-0500
TZNAME:EST
DTSTART:20271107T060000
END:STANDARD
END:VTIMEZONE
BEGIN:VEVENT
DTSTART;TZID=America/Denver:20260513T114500
DTEND;TZID=America/Denver:20260513T131500
DTSTAMP:20260425T170005
CREATED:20260403T184348Z
LAST-MODIFIED:20260423T213052Z
UID:76307866-1778672700-1778678100@www.kraftkennedy.com
SUMMARY:Streamline Your Bottom Line: Your No-Nonsense Guide to Fixing Law Firm Finance & Administration
DESCRIPTION:Streamline Your Bottom Line: Your No-Nonsense Guide to Fixing Law Firm Finance & Administration\nIs your law firm’s back office running you ragged\, or are they just running up costs? Join our focused in-person session for legal administrators seeking practical ways to improve financial and administrative operations. Discover strategies to identify bottlenecks\, cut waste\, and implement efficient processes that truly benefit your firm. Learn how to optimize workflows\, boost cash flow\, and handle administrative challenges without overburdening staff or forcing partners into ineffective systems. \nSession Takeaways:\n\nIdentify the most common financial and administrative inefficiencies in law firms and learn practical methods to address them.\nDevelop a step-by-step plan to streamline finance and administrative operations\, increasing productivity and reducing stress for your teams.\nImplement proven strategies to control firm costs\, boost cash flow\, and create sustainable administrative processes.\n\nSara Zezza is an Account Executive at Kraft Kennedy with more than 15 years of experience in technology sales\, specializing in IT consulting\, managed services\, and cloud solutions. She partners with law firms and corporate legal departments to identify operational pain points and connect teams with practical\, right-sized technology and service strategies that improve efficiency\, strengthen security\, and support business growth. \nKeith Kallen is Chief Financial Officer at Kraft Kennedy and a member of the firm’s management team. He oversees corporate finance and financial operations\, as well as key internal functions including HR and business systems\, supporting the firm’s strategic growth and service delivery to clients across legal and other highly regulated industries. \nWhen: May 13\, 2026  |  11:45 am – 1:15 pm MT\nWhere: Dentons\nRegister: Here \nStay in the know about our education sessions and more – subscribe here.\nFollow us on LinkedIn and check out our upcoming events.
URL:https://www.kraftkennedy.com/event/streamline-your-bottom-line-your-no-nonsense-guide-to-fixing-law-firm-finance-administration/
LOCATION:Dentons
CATEGORIES:ALA,Live Events
ATTACH;FMTTYPE=image/jpeg:https://www.kraftkennedy.com/wp-content/uploads/2026/04/ALA-Denver-May2026-Kraft-Kennedy-Education-Session-5_13_26-scaled.jpg
END:VEVENT
BEGIN:VEVENT
DTSTART;VALUE=DATE:20260823
DTEND;VALUE=DATE:20260828
DTSTAMP:20260425T170006
CREATED:20260423T215415Z
LAST-MODIFIED:20260423T221147Z
UID:76301255-1787443200-1787875199@www.kraftkennedy.com
SUMMARY:ILTACON 2026
DESCRIPTION:ILTACON 2026 will take place August 23-27\, 2026 at the Gaylord Opryland  |  Nashville\, TN.\nRegistration will open in the Spring for  ILTACON 20256 \nDate & Location\nSunday\, August 23\, 2026 – Thursday\, August 27\, 2026  | Gaylord Opryland \nKraft Kennedy Happenings\nThe Annual ILTACON Golf Outing\, Cocktails @ the Genius Bar\, Featured Kraft Kennedy Sessions\, Advance entry for our Microsoft Surface Giveaway\, \nCheck back to find out what we have planned for ILTACON 2026.  \nAbout ILTACON\nThe educational program includes a variety of topics and trends developed by co-chairs and experienced members in formats to meet a variety of learning styles that include learning pathways\, panel discussions\, hands-on training and attendee-driven sessions. \nILTACON is a robust 4.5 day conference\, with comprehensive peer-driven programs\, educational content\, and face-to-face networking. Check back ILTACON 2026 Agenda \nAbout ILTA\nThe International Legal Technology Association (ILTA) serves the professional needs of more than 25\,000 international legal technology professionals and their organizations. Since 1980\, the association’s focus is to achieve results for our membership and the legal technology profession at large. Much of the value we provide as an association occurs through the coordinated efforts with our global volunteer membership teams.\nMore information on all ILTA events and conferences can be found here. Information on ILTA Volunteer roles can be found here. \nMore Information\nStay in the know about our ILTACON plans and more – subscribe here.  \nCheck out our upcoming events\, and follow us on LinkedIn
URL:https://www.kraftkennedy.com/event/iltacon-2026/
LOCATION:Gaylord Opryland Resort & Convention Center\, 2800 Opryland Drive\, Nashville\, TN\, 37214\, United States
CATEGORIES:ILTA,Live Events
ATTACH;FMTTYPE=image/jpeg:https://www.kraftkennedy.com/wp-content/uploads/2021/04/ILTACON-2021-02.jpg
END:VEVENT
END:VCALENDAR