BEGIN:VCALENDAR
VERSION:2.0
PRODID:-//Kraft Kennedy - ECPv6.15.20//NONSGML v1.0//EN
CALSCALE:GREGORIAN
METHOD:PUBLISH
X-WR-CALNAME:Kraft Kennedy
X-ORIGINAL-URL:https://www.kraftkennedy.com
X-WR-CALDESC:Events for Kraft Kennedy
REFRESH-INTERVAL;VALUE=DURATION:PT1H
X-Robots-Tag:noindex
X-PUBLISHED-TTL:PT1H
BEGIN:VTIMEZONE
TZID:America/New_York
BEGIN:DAYLIGHT
TZOFFSETFROM:-0500
TZOFFSETTO:-0400
TZNAME:EDT
DTSTART:20200308T070000
END:DAYLIGHT
BEGIN:STANDARD
TZOFFSETFROM:-0400
TZOFFSETTO:-0500
TZNAME:EST
DTSTART:20201101T060000
END:STANDARD
BEGIN:DAYLIGHT
TZOFFSETFROM:-0500
TZOFFSETTO:-0400
TZNAME:EDT
DTSTART:20210314T070000
END:DAYLIGHT
BEGIN:STANDARD
TZOFFSETFROM:-0400
TZOFFSETTO:-0500
TZNAME:EST
DTSTART:20211107T060000
END:STANDARD
BEGIN:DAYLIGHT
TZOFFSETFROM:-0500
TZOFFSETTO:-0400
TZNAME:EDT
DTSTART:20220313T070000
END:DAYLIGHT
BEGIN:STANDARD
TZOFFSETFROM:-0400
TZOFFSETTO:-0500
TZNAME:EST
DTSTART:20221106T060000
END:STANDARD
END:VTIMEZONE
BEGIN:VEVENT
DTSTART;TZID=America/New_York:20211202T120000
DTEND;TZID=America/New_York:20211202T120000
DTSTAMP:20260425T155548
CREATED:20211111T194223Z
LAST-MODIFIED:20211111T194328Z
UID:76300123-1638446400-1638446400@www.kraftkennedy.com
SUMMARY:ALA Philadelphia Holiday Luncheon
DESCRIPTION:Kraft Kennedy looks forward to gathering with ALA Philadelphia for the 2021 holiday luncheon at Maggiano’s Little Italy. Join us for great conversation\, delicious food\, and holiday fun! Register to reserve your spot. \nWill you be there? Let us know!
URL:https://www.kraftkennedy.com/event/ala-philadelphia-holiday-luncheon/
LOCATION:Maggiano’s Little Italy\, 1201 Filbert St\, Philadelphia\, PA\, 19107\, United States
CATEGORIES:ALA
ATTACH;FMTTYPE=image/jpeg:https://www.kraftkennedy.com/wp-content/uploads/2021/10/holiday-luncheon-philly-01-scaled-e1635436773255.jpg
END:VEVENT
END:VCALENDAR