BEGIN:VCALENDAR
VERSION:2.0
PRODID:-//Kraft Kennedy - ECPv6.15.20//NONSGML v1.0//EN
CALSCALE:GREGORIAN
METHOD:PUBLISH
X-WR-CALNAME:Kraft Kennedy
X-ORIGINAL-URL:https://www.kraftkennedy.com
X-WR-CALDESC:Events for Kraft Kennedy
REFRESH-INTERVAL;VALUE=DURATION:PT1H
X-Robots-Tag:noindex
X-PUBLISHED-TTL:PT1H
BEGIN:VTIMEZONE
TZID:America/New_York
BEGIN:DAYLIGHT
TZOFFSETFROM:-0500
TZOFFSETTO:-0400
TZNAME:EDT
DTSTART:20200308T070000
END:DAYLIGHT
BEGIN:STANDARD
TZOFFSETFROM:-0400
TZOFFSETTO:-0500
TZNAME:EST
DTSTART:20201101T060000
END:STANDARD
BEGIN:DAYLIGHT
TZOFFSETFROM:-0500
TZOFFSETTO:-0400
TZNAME:EDT
DTSTART:20210314T070000
END:DAYLIGHT
BEGIN:STANDARD
TZOFFSETFROM:-0400
TZOFFSETTO:-0500
TZNAME:EST
DTSTART:20211107T060000
END:STANDARD
BEGIN:DAYLIGHT
TZOFFSETFROM:-0500
TZOFFSETTO:-0400
TZNAME:EDT
DTSTART:20220313T070000
END:DAYLIGHT
BEGIN:STANDARD
TZOFFSETFROM:-0400
TZOFFSETTO:-0500
TZNAME:EST
DTSTART:20221106T060000
END:STANDARD
END:VTIMEZONE
BEGIN:VEVENT
DTSTART;TZID=America/New_York:20211103T171500
DTEND;TZID=America/New_York:20211103T193000
DTSTAMP:20260425T141733
CREATED:20211027T182251Z
LAST-MODIFIED:20211027T182251Z
UID:76300085-1635959700-1635967800@www.kraftkennedy.com
SUMMARY:ALA Philly Fall Social
DESCRIPTION:We look forward to joining the ALA Philadelphia members for their 2021 Fall Social. This promises to be a terrific evening celebrating our Philadelphia ALA community.
URL:https://www.kraftkennedy.com/event/ala-philly-fall-social/
CATEGORIES:ALA
ATTACH;FMTTYPE=image/jpeg:https://www.kraftkennedy.com/wp-content/uploads/2021/10/Axe-Throwing-Fall-Social-v2-scaled-e1635268902112.jpg
END:VEVENT
BEGIN:VEVENT
DTSTART;TZID=America/New_York:20211109T173000
DTEND;TZID=America/New_York:20211109T193000
DTSTAMP:20260425T141733
CREATED:20211027T182519Z
LAST-MODIFIED:20211027T182519Z
UID:76300035-1636479000-1636486200@www.kraftkennedy.com
SUMMARY:ALA Atlanta Fall Social
DESCRIPTION:We look forward to joining the ALA Atlanta members for their 2021 Fall Social at Topgolf.  This promises to be a fun evening celebrating our Atlanta ALA community!
URL:https://www.kraftkennedy.com/event/ala-atlanta-fall-social/
LOCATION:TopGolf Midtown\, 1600 Ellsworth Industrial Blvd NW\, Atlanta\, GA\, 30318\, United States
CATEGORIES:ALA
ATTACH;FMTTYPE=image/jpeg:https://www.kraftkennedy.com/wp-content/uploads/2021/10/atl-ala-fall-social_Atl-Ala-fall-social-scaled-e1634584901547.jpg
END:VEVENT
END:VCALENDAR