BEGIN:VCALENDAR
VERSION:2.0
PRODID:-//Kraft Kennedy - ECPv6.15.20//NONSGML v1.0//EN
CALSCALE:GREGORIAN
METHOD:PUBLISH
X-ORIGINAL-URL:https://www.kraftkennedy.com
X-WR-CALDESC:Events for Kraft Kennedy
REFRESH-INTERVAL;VALUE=DURATION:PT1H
X-Robots-Tag:noindex
X-PUBLISHED-TTL:PT1H
BEGIN:VTIMEZONE
TZID:America/New_York
BEGIN:DAYLIGHT
TZOFFSETFROM:-0500
TZOFFSETTO:-0400
TZNAME:EDT
DTSTART:20200308T070000
END:DAYLIGHT
BEGIN:STANDARD
TZOFFSETFROM:-0400
TZOFFSETTO:-0500
TZNAME:EST
DTSTART:20201101T060000
END:STANDARD
BEGIN:DAYLIGHT
TZOFFSETFROM:-0500
TZOFFSETTO:-0400
TZNAME:EDT
DTSTART:20210314T070000
END:DAYLIGHT
BEGIN:STANDARD
TZOFFSETFROM:-0400
TZOFFSETTO:-0500
TZNAME:EST
DTSTART:20211107T060000
END:STANDARD
BEGIN:DAYLIGHT
TZOFFSETFROM:-0500
TZOFFSETTO:-0400
TZNAME:EDT
DTSTART:20220313T070000
END:DAYLIGHT
BEGIN:STANDARD
TZOFFSETFROM:-0400
TZOFFSETTO:-0500
TZNAME:EST
DTSTART:20221106T060000
END:STANDARD
END:VTIMEZONE
BEGIN:VEVENT
DTSTART;VALUE=DATE:20211003
DTEND;VALUE=DATE:20211007
DTSTAMP:20260425T160326
CREATED:20210527T183318Z
LAST-MODIFIED:20210623T184659Z
UID:76299514-1633219200-1633564799@www.kraftkennedy.com
SUMMARY:ALA Annual Conference & Expo 2021
DESCRIPTION:We’re getting ready to educate\, challenge and inspire at ALA’s 2021 Annual Conference & Expo. The conference committee is hard at work developing an educational program that will bring together the varied perspectives\, experiences and knowledge that make our community truly great. \nWe can’t wait to share the details with you soon. Register here. \nAlready registered? Let us know if you’d like to be be a part of our special events.
URL:https://www.kraftkennedy.com/event/ala-conference-2021/
LOCATION:Austin Convention Center\, 500 E. Cesar Chavez St.\, Austin\, TX\, 78701\, United States
CATEGORIES:ALA
ATTACH;FMTTYPE=image/jpeg:https://www.kraftkennedy.com/wp-content/uploads/2021/05/2021-AnnualConference.jpg
END:VEVENT
BEGIN:VEVENT
DTSTART;VALUE=DATE:20211018
DTEND;VALUE=DATE:20211019
DTSTAMP:20260425T160326
CREATED:20211011T163144Z
LAST-MODIFIED:20211011T163144Z
UID:76299796-1634515200-1634601599@www.kraftkennedy.com
SUMMARY:ALA Philadelphia Member Outing: Topgolf
DESCRIPTION:We look forward to joining the Philadelphia ALA members for the 2021 Annual Member Outing at Topgolf!  This promises to be a terrific afternoon not only celebrating our Philly ALA community\, but coming together to support Breast Cancer Awareness.
URL:https://www.kraftkennedy.com/event/ala-philadelphia-member-outing-topgolf/
LOCATION:Topgolf Mount Laurel\, 104 Centerton Rd.\, Mount Laurel\, NJ\, 08054\, United States
CATEGORIES:ALA
ATTACH;FMTTYPE=image/jpeg:https://www.kraftkennedy.com/wp-content/uploads/2021/10/ala-philly-top-golf-21-01-scaled-e1633964304196.jpg
END:VEVENT
BEGIN:VEVENT
DTSTART;TZID=America/New_York:20211021T120000
DTEND;TZID=America/New_York:20211021T130000
DTSTAMP:20260425T160326
CREATED:20211005T134510Z
LAST-MODIFIED:20211007T141910Z
UID:76299922-1634817600-1634821200@www.kraftkennedy.com
SUMMARY:Managed Service Providers 101 – Why you Need a MSP and How to Find One That Works for Your Firm
DESCRIPTION:Thursday\, October 21\, 2021\n12:00 pm – 1:00 pm  \nYou’ve got enough on your plate dealing with current business demands. If you have not already done so\, it’s time you considered hiring a Managed Service Provider (MSP) to handle your law firm technology needs with budget-friendly solutions to keep your systems secure. \nDuring this session\, COO Jude Travers-Frazier will provide a clear strategy to finding and vetting Managed Service Providers (MSPs) which will include: \n\nRed flags to have on your radar when vetting MSPs\nDocumentation you should request upfront from a potential MSP\nSpecific ‘must ask’ security questions\n\nNot an ALA NYC member? Register now or reach out to request a copy of the recording post webinar.
URL:https://www.kraftkennedy.com/event/managed-service-providers-101-webinar/
LOCATION:Webinar
CATEGORIES:ALA,Business
ATTACH;FMTTYPE=image/jpeg:https://www.kraftkennedy.com/wp-content/uploads/2021/10/HowToFindMSP101-01-scaled-e1633441710846.jpg
END:VEVENT
END:VCALENDAR