BEGIN:VCALENDAR
VERSION:2.0
PRODID:-//Kraft Kennedy - ECPv6.15.20//NONSGML v1.0//EN
CALSCALE:GREGORIAN
METHOD:PUBLISH
X-ORIGINAL-URL:https://www.kraftkennedy.com
X-WR-CALDESC:Events for Kraft Kennedy
REFRESH-INTERVAL;VALUE=DURATION:PT1H
X-Robots-Tag:noindex
X-PUBLISHED-TTL:PT1H
BEGIN:VTIMEZONE
TZID:America/New_York
BEGIN:DAYLIGHT
TZOFFSETFROM:-0500
TZOFFSETTO:-0400
TZNAME:EDT
DTSTART:20250309T070000
END:DAYLIGHT
BEGIN:STANDARD
TZOFFSETFROM:-0400
TZOFFSETTO:-0500
TZNAME:EST
DTSTART:20251102T060000
END:STANDARD
BEGIN:DAYLIGHT
TZOFFSETFROM:-0500
TZOFFSETTO:-0400
TZNAME:EDT
DTSTART:20260308T070000
END:DAYLIGHT
BEGIN:STANDARD
TZOFFSETFROM:-0400
TZOFFSETTO:-0500
TZNAME:EST
DTSTART:20261101T060000
END:STANDARD
BEGIN:DAYLIGHT
TZOFFSETFROM:-0500
TZOFFSETTO:-0400
TZNAME:EDT
DTSTART:20270314T070000
END:DAYLIGHT
BEGIN:STANDARD
TZOFFSETFROM:-0400
TZOFFSETTO:-0500
TZNAME:EST
DTSTART:20271107T060000
END:STANDARD
END:VTIMEZONE
BEGIN:VEVENT
DTSTART;TZID=America/New_York:20260309T113000
DTEND;TZID=America/New_York:20260309T123000
DTSTAMP:20260423T140610
CREATED:20260304T144204Z
LAST-MODIFIED:20260304T144204Z
UID:76307815-1773055800-1773059400@www.kraftkennedy.com
SUMMARY:Passwordless Future: How Biometrics Technology Drive Frictionless Login 
DESCRIPTION:Passwordless Future: How Biometrics Technology Drive Frictionless Login\n\n\n\n\n\nDescription\nDiscover how biometric technology is transforming authentication and paving the way to a truly passwordless environment. Actionable Intelligence explore practical steps on the path to Passkey\, share real-world success stories from organizations that have embraced passwordless strategies demonstrate how frictionless login enhances both security and user experience.\n\nAttendees will be positioned to unlock the potential of Passkey for a secure\, seamless digital future. \nSpeaker \n\nMarcus Bluestein\, Chief Information Officer – Kraft Kennedy\nLocation Name\nRoom 409 \nDate & Time\nMonday\, March 9\, 2026\, 11:30 AM – 12:30 PM
URL:https://www.kraftkennedy.com/event/passwordless-future-how-biometrics-technology-drive-frictionless-login/
LOCATION:North Javits Center\, 429 11th Ave\, New York\, New York
ATTACH;FMTTYPE=image/jpeg:https://www.kraftkennedy.com/wp-content/uploads/2023/03/AMLAW-LEGALWEEK.jpg
END:VEVENT
END:VCALENDAR