BEGIN:VCALENDAR
VERSION:2.0
PRODID:-//Kraft Kennedy - ECPv6.15.20//NONSGML v1.0//EN
CALSCALE:GREGORIAN
METHOD:PUBLISH
X-WR-CALNAME:Kraft Kennedy
X-ORIGINAL-URL:https://www.kraftkennedy.com
X-WR-CALDESC:Events for Kraft Kennedy
REFRESH-INTERVAL;VALUE=DURATION:PT1H
X-Robots-Tag:noindex
X-PUBLISHED-TTL:PT1H
BEGIN:VTIMEZONE
TZID:America/New_York
BEGIN:DAYLIGHT
TZOFFSETFROM:-0500
TZOFFSETTO:-0400
TZNAME:EDT
DTSTART:20240310T070000
END:DAYLIGHT
BEGIN:STANDARD
TZOFFSETFROM:-0400
TZOFFSETTO:-0500
TZNAME:EST
DTSTART:20241103T060000
END:STANDARD
BEGIN:DAYLIGHT
TZOFFSETFROM:-0500
TZOFFSETTO:-0400
TZNAME:EDT
DTSTART:20250309T070000
END:DAYLIGHT
BEGIN:STANDARD
TZOFFSETFROM:-0400
TZOFFSETTO:-0500
TZNAME:EST
DTSTART:20251102T060000
END:STANDARD
BEGIN:DAYLIGHT
TZOFFSETFROM:-0500
TZOFFSETTO:-0400
TZNAME:EDT
DTSTART:20260308T070000
END:DAYLIGHT
BEGIN:STANDARD
TZOFFSETFROM:-0400
TZOFFSETTO:-0500
TZNAME:EST
DTSTART:20261101T060000
END:STANDARD
END:VTIMEZONE
BEGIN:VEVENT
DTSTART;TZID=America/New_York:20250630T173000
DTEND;TZID=America/New_York:20250630T203000
DTSTAMP:20260421T042956
CREATED:20250529T162453Z
LAST-MODIFIED:20250529T162453Z
UID:76306505-1751304600-1751315400@www.kraftkennedy.com
SUMMARY:ALA NYC BP & Members Event
DESCRIPTION:ALA NYC BP & Members Event\nThe Kraft Kennedy team will gather with the Association of Legal Administrators (ALA) NYC community for an evening of delicious food\, craft cocktails\, and interactive sports experiences. \nWhen: Wednesday\, July 30\, 2025  |  5:30 PM- 8:30 PM\nWhere: T-Squared Social \nStay in the know about our ALA activities and more – subscribe here.\nFollow us on LinkedIn and check out our upcoming events.
URL:https://www.kraftkennedy.com/event/ala-nyc-bp-members-event/
CATEGORIES:ALA,Live Events
ATTACH;FMTTYPE=image/jpeg:https://www.kraftkennedy.com/wp-content/uploads/2025/05/ALA-NYC-July-2025-BP-and-Members-Event-7_30_25-scaled.jpg
END:VEVENT
END:VCALENDAR