BEGIN:VCALENDAR
VERSION:2.0
PRODID:-//Kraft Kennedy - ECPv6.15.20//NONSGML v1.0//EN
CALSCALE:GREGORIAN
METHOD:PUBLISH
X-WR-CALNAME:Kraft Kennedy
X-ORIGINAL-URL:https://www.kraftkennedy.com
X-WR-CALDESC:Events for Kraft Kennedy
REFRESH-INTERVAL;VALUE=DURATION:PT1H
X-Robots-Tag:noindex
X-PUBLISHED-TTL:PT1H
BEGIN:VTIMEZONE
TZID:America/New_York
BEGIN:DAYLIGHT
TZOFFSETFROM:-0500
TZOFFSETTO:-0400
TZNAME:EDT
DTSTART:20240310T070000
END:DAYLIGHT
BEGIN:STANDARD
TZOFFSETFROM:-0400
TZOFFSETTO:-0500
TZNAME:EST
DTSTART:20241103T060000
END:STANDARD
BEGIN:DAYLIGHT
TZOFFSETFROM:-0500
TZOFFSETTO:-0400
TZNAME:EDT
DTSTART:20250309T070000
END:DAYLIGHT
BEGIN:STANDARD
TZOFFSETFROM:-0400
TZOFFSETTO:-0500
TZNAME:EST
DTSTART:20251102T060000
END:STANDARD
BEGIN:DAYLIGHT
TZOFFSETFROM:-0500
TZOFFSETTO:-0400
TZNAME:EDT
DTSTART:20260308T070000
END:DAYLIGHT
BEGIN:STANDARD
TZOFFSETFROM:-0400
TZOFFSETTO:-0500
TZNAME:EST
DTSTART:20261101T060000
END:STANDARD
END:VTIMEZONE
BEGIN:VEVENT
DTSTART;TZID=America/New_York:20250626T114500
DTEND;TZID=America/New_York:20250626T140000
DTSTAMP:20260421T043052
CREATED:20250609T204711Z
LAST-MODIFIED:20250609T204711Z
UID:76306606-1750938300-1750946400@www.kraftkennedy.com
SUMMARY:ALA Golden Gate BP Appreciation Lunch
DESCRIPTION:ALA Golden Gate BP Appreciation Lunch\nChris Arrowsmith will gather with Association of Legal Administrators (ALA) Golden Gate friends and partner for an afternoon of conversation\, connection\, and raffle prizes. \nWhen: Thursday\, June 26\, 2025  |  11:45 AM – 2:00 PM\nWhere: SENS \nStay in the know about our ALA activities and more – subscribe here.\nFollow us on LinkedIn and check out our upcoming events.
URL:https://www.kraftkennedy.com/event/ala-golden-gate-bp-appreciation-lunch/
CATEGORIES:ALA,Live Events
ATTACH;FMTTYPE=image/jpeg:https://www.kraftkennedy.com/wp-content/uploads/2025/06/ALA-Golden-Gate-June-2025-BP-Appreciation-Lunch-5_26_25-scaled.jpg
END:VEVENT
BEGIN:VEVENT
DTSTART;TZID=America/New_York:20250626T173000
DTEND;TZID=America/New_York:20250626T193000
DTSTAMP:20260421T043052
CREATED:20250425T183544Z
LAST-MODIFIED:20250604T144738Z
UID:76306296-1750959000-1750966200@www.kraftkennedy.com
SUMMARY:ALA Central Florida Pup-Up Social
DESCRIPTION:ALA Central Florida Pup-Up Social\nMartin Leyendecker and Savannah Cameron will gather with Association of Legal Administrators (ALA) Central Florida friends for an evening of conversation and connection at the Summer Pop-Up Social. \nWhen: Thursday\, June 26\, 2025  |  5:30 PM – 7:30 PM\nWhere: Grills Lakeside \nStay in the know about our ALA activities and more – subscribe here.\nFollow us on LinkedIn and check out our upcoming events.
URL:https://www.kraftkennedy.com/event/ala-central-florida-pup-up-social/
CATEGORIES:ALA,Live Events
ATTACH;FMTTYPE=image/jpeg:https://www.kraftkennedy.com/wp-content/uploads/2025/04/ALA-Central-Florida-June-2025-Summer-Pop-Up-Social-6_26-scaled.jpg
END:VEVENT
BEGIN:VEVENT
DTSTART;TZID=America/New_York:20250626T173000
DTEND;TZID=America/New_York:20250626T210000
DTSTAMP:20260421T043052
CREATED:20250625T143909Z
LAST-MODIFIED:20250625T143909Z
UID:76306714-1750959000-1750971600@www.kraftkennedy.com
SUMMARY:Networking Happy Hour & Membership Drive
DESCRIPTION:Networking Happy Hour & Membership Drive\nStacy Jenkins will gather with Association of Legal Administrators (ALA) Capital Chapter friends for an evening happy hour of conversation and connection with chapter leaders and members. \nWhen: Thursday\, June 26\, 2025  |  5:30 PM – 9:00 PM\nWhere: Dauphine’s \nStay in the know about our ALA activities and more – subscribe here.\nFollow us on LinkedIn and check out our upcoming events.
URL:https://www.kraftkennedy.com/event/networking-happy-hour-membership-drive/
CATEGORIES:ALA,Live Events
ATTACH;FMTTYPE=image/jpeg:https://www.kraftkennedy.com/wp-content/uploads/2025/06/ALA-Capital-Chapter-June-2025-Networking-Happy-Hour-6_26_25-scaled.jpg
END:VEVENT
END:VCALENDAR