BEGIN:VCALENDAR
VERSION:2.0
PRODID:-//Kraft Kennedy - ECPv6.15.20//NONSGML v1.0//EN
CALSCALE:GREGORIAN
METHOD:PUBLISH
X-ORIGINAL-URL:https://www.kraftkennedy.com
X-WR-CALDESC:Events for Kraft Kennedy
REFRESH-INTERVAL;VALUE=DURATION:PT1H
X-Robots-Tag:noindex
X-PUBLISHED-TTL:PT1H
BEGIN:VTIMEZONE
TZID:America/New_York
BEGIN:DAYLIGHT
TZOFFSETFROM:-0500
TZOFFSETTO:-0400
TZNAME:EDT
DTSTART:20240310T070000
END:DAYLIGHT
BEGIN:STANDARD
TZOFFSETFROM:-0400
TZOFFSETTO:-0500
TZNAME:EST
DTSTART:20241103T060000
END:STANDARD
BEGIN:DAYLIGHT
TZOFFSETFROM:-0500
TZOFFSETTO:-0400
TZNAME:EDT
DTSTART:20250309T070000
END:DAYLIGHT
BEGIN:STANDARD
TZOFFSETFROM:-0400
TZOFFSETTO:-0500
TZNAME:EST
DTSTART:20251102T060000
END:STANDARD
BEGIN:DAYLIGHT
TZOFFSETFROM:-0500
TZOFFSETTO:-0400
TZNAME:EDT
DTSTART:20260308T070000
END:DAYLIGHT
BEGIN:STANDARD
TZOFFSETFROM:-0400
TZOFFSETTO:-0500
TZNAME:EST
DTSTART:20261101T060000
END:STANDARD
END:VTIMEZONE
BEGIN:VEVENT
DTSTART;TZID=America/New_York:20250606T120000
DTEND;TZID=America/New_York:20250606T130000
DTSTAMP:20260421T043111
CREATED:20250515T184306Z
LAST-MODIFIED:20250515T184904Z
UID:76306465-1749211200-1749214800@www.kraftkennedy.com
SUMMARY:ILTA 2025 Kansas Lunch & Learn
DESCRIPTION:ILTA 2025 Kansas Lunch & Learn\nRegister here to join Sara Zezza for a special Lunch & Learn in Kansas City with Joy Heath Rush\, CEO of the International Legal Technology Association (ILTA)! \nJoy will be sharing highlights from Future Lawyer in Europe\, diving into the latest legal tech trends\, what’s catching attention worldwide\, and how it all connects back to innovation and strategy right here at home. \nWhether you’re all in on legal tech or just curious about where the industry’s heading\, you won’t want to miss this one. Grab your spot\, and let’s dig into the future of law together! \nWhen: Friday\, June 6\, 2025  |  12:00 PM – 1:00 PM\nWhere: 4801 Main St \nStay in the know about our ILTA activities and more – subscribe here.\nFollow us on LinkedIn and check out our upcoming events.
URL:https://www.kraftkennedy.com/event/ilta-2025-kansas-lunch-and-learn/
CATEGORIES:ILTA,Live Events
ATTACH;FMTTYPE=image/jpeg:https://www.kraftkennedy.com/wp-content/uploads/2025/05/ILTA-Kansas-Social.jpeg
END:VEVENT
END:VCALENDAR