BEGIN:VCALENDAR
VERSION:2.0
PRODID:-//Kraft Kennedy - ECPv6.15.20//NONSGML v1.0//EN
CALSCALE:GREGORIAN
METHOD:PUBLISH
X-ORIGINAL-URL:https://www.kraftkennedy.com
X-WR-CALDESC:Events for Kraft Kennedy
REFRESH-INTERVAL;VALUE=DURATION:PT1H
X-Robots-Tag:noindex
X-PUBLISHED-TTL:PT1H
BEGIN:VTIMEZONE
TZID:America/New_York
BEGIN:DAYLIGHT
TZOFFSETFROM:-0500
TZOFFSETTO:-0400
TZNAME:EDT
DTSTART:20240310T070000
END:DAYLIGHT
BEGIN:STANDARD
TZOFFSETFROM:-0400
TZOFFSETTO:-0500
TZNAME:EST
DTSTART:20241103T060000
END:STANDARD
BEGIN:DAYLIGHT
TZOFFSETFROM:-0500
TZOFFSETTO:-0400
TZNAME:EDT
DTSTART:20250309T070000
END:DAYLIGHT
BEGIN:STANDARD
TZOFFSETFROM:-0400
TZOFFSETTO:-0500
TZNAME:EST
DTSTART:20251102T060000
END:STANDARD
BEGIN:DAYLIGHT
TZOFFSETFROM:-0500
TZOFFSETTO:-0400
TZNAME:EDT
DTSTART:20260308T070000
END:DAYLIGHT
BEGIN:STANDARD
TZOFFSETFROM:-0400
TZOFFSETTO:-0500
TZNAME:EST
DTSTART:20261101T060000
END:STANDARD
END:VTIMEZONE
BEGIN:VEVENT
DTSTART;VALUE=DATE:20250518
DTEND;VALUE=DATE:20250522
DTSTAMP:20260421T043222
CREATED:20241002T184633Z
LAST-MODIFIED:20250416T140726Z
UID:76301242-1747526400-1747871999@www.kraftkennedy.com
SUMMARY:ALA Annual Conference 2025
DESCRIPTION:Association of Legal Administrators will shine at the ALA Annual Conference & Expo! Held every spring\, this marquee event is where 1\,000+ legal management professionals and business partners convene for three days of professional development\, networking and fun. You’ll leave inspired and ready to take on the challenges back at your legal organization. \nCheck out what we have planned! \nLocation: Music City Center\, Nashville\, Tennessee.\nDates: Sunday\, May 18 – Wednesday\, May 21\, 2025\nConference Agenda: session listings and schedule here \nDetails:\nThe Association of Legal Administrators Annual Conference & Expo 2025\nSunday\, 5/18/25- Wednesday\, 5/21/2025\nMusic City Center\nNashville\, Tennessee \nAbout The Association of Legal Administrators\nALA members are critical to the success of their legal organizations.\nSince 1971\, ALA has strived to give those responsible for vital roles within law firms the support they need through education\, networking and a community hub where they come to work out challenges and innovate together. From human resources and operations to strategy and finances\, ALA members keep the business side of law firms running. \nPlan ahead with our team to select the ALA Annual Conference sessions and events that align with your goals for learning and fun at the conference.
URL:https://www.kraftkennedy.com/event/association-of-legal-administrators-conference-2025/
LOCATION:Music City Center\, 201 Rep. John Lewis Way S\, Nashville\, TN\, 37203\, United States
CATEGORIES:ALA,Live Events
ATTACH;FMTTYPE=image/jpeg:https://www.kraftkennedy.com/wp-content/uploads/2024/06/ALA-Annual-Conference-Expo-Evergreen-scaled.jpg
END:VEVENT
END:VCALENDAR