BEGIN:VCALENDAR
VERSION:2.0
PRODID:-//Kraft Kennedy - ECPv6.15.20//NONSGML v1.0//EN
CALSCALE:GREGORIAN
METHOD:PUBLISH
X-ORIGINAL-URL:https://www.kraftkennedy.com
X-WR-CALDESC:Events for Kraft Kennedy
REFRESH-INTERVAL;VALUE=DURATION:PT1H
X-Robots-Tag:noindex
X-PUBLISHED-TTL:PT1H
BEGIN:VTIMEZONE
TZID:America/New_York
BEGIN:DAYLIGHT
TZOFFSETFROM:-0500
TZOFFSETTO:-0400
TZNAME:EDT
DTSTART:20230312T070000
END:DAYLIGHT
BEGIN:STANDARD
TZOFFSETFROM:-0400
TZOFFSETTO:-0500
TZNAME:EST
DTSTART:20231105T060000
END:STANDARD
BEGIN:DAYLIGHT
TZOFFSETFROM:-0500
TZOFFSETTO:-0400
TZNAME:EDT
DTSTART:20240310T070000
END:DAYLIGHT
BEGIN:STANDARD
TZOFFSETFROM:-0400
TZOFFSETTO:-0500
TZNAME:EST
DTSTART:20241103T060000
END:STANDARD
BEGIN:DAYLIGHT
TZOFFSETFROM:-0500
TZOFFSETTO:-0400
TZNAME:EDT
DTSTART:20250309T070000
END:DAYLIGHT
BEGIN:STANDARD
TZOFFSETFROM:-0400
TZOFFSETTO:-0500
TZNAME:EST
DTSTART:20251102T060000
END:STANDARD
END:VTIMEZONE
BEGIN:VEVENT
DTSTART;VALUE=DATE:20241024
DTEND;VALUE=DATE:20241025
DTSTAMP:20260422T074823
CREATED:20240924T173357Z
LAST-MODIFIED:20241002T192352Z
UID:76305406-1729728000-1729814399@www.kraftkennedy.com
SUMMARY:ALA NYC Symposium 2024
DESCRIPTION:ALA NYC Symposium 2024\nKraft Kennedy looks forward to expert-level discussions and knowledge sharing with the Association of Legal Administrators (ALA) NYC at the 19th Annual Educational Symposium & Exposition. \nDate: Thursday\, October 24  |  8:00 AM – 7:00 PM\nLocation: One Five One\nRegister here\nView the agenda \nKraft Kennedy Spotlight Session:\nThe Cyber-AI Paradox: Guiding Your Firm’s Leadership Through AI and Cybersecurity Risks. \nNett Lynch & Tracy Kraft  |  1:45 pm – 2:45 pm\n \nTracy Kraft will host industry expert Nett Lynch for a cyber security debrief at ALANYC’s annual symposium. Audience members will hear firsthand accounts of real-life cyber attacks from industry insider and gain a deeper understanding of the most overlooked vulnerabilities. We’ll cover exactly how threat actors breach systems\, their actions once inside\, and the resulting impact on businesses. \nThe stories shared will provide valuable lessons based on real life organizational mistakes. Attendees will leave prepared to communicate specific examples of why a strong security posture is business critical. \nSession attendees will: \n\nPractice the art of explaining complex cybersecurity risks to a non-technical management committee.\nPrepare to communicate about the dangers of the latest tactics\, to help your firm partnership align risk management with firm-wide priorities.\nPosition their firm culture for proactive risk management and open communication about AI and cybersecurity across your organization.\n\nLet us know if you’d like to connect prior to the Symposium.
URL:https://www.kraftkennedy.com/event/ala-nyc-symposium-2024/
CATEGORIES:ALA,Live Events
ATTACH;FMTTYPE=image/jpeg:https://www.kraftkennedy.com/wp-content/uploads/2024/09/ALA-NYC-Symposium-2024-scaled-e1727198834404.jpg
END:VEVENT
END:VCALENDAR