BEGIN:VCALENDAR
VERSION:2.0
PRODID:-//Kraft Kennedy - ECPv6.15.20//NONSGML v1.0//EN
CALSCALE:GREGORIAN
METHOD:PUBLISH
X-ORIGINAL-URL:https://www.kraftkennedy.com
X-WR-CALDESC:Events for Kraft Kennedy
REFRESH-INTERVAL;VALUE=DURATION:PT1H
X-Robots-Tag:noindex
X-PUBLISHED-TTL:PT1H
BEGIN:VTIMEZONE
TZID:America/New_York
BEGIN:DAYLIGHT
TZOFFSETFROM:-0500
TZOFFSETTO:-0400
TZNAME:EDT
DTSTART:20230312T070000
END:DAYLIGHT
BEGIN:STANDARD
TZOFFSETFROM:-0400
TZOFFSETTO:-0500
TZNAME:EST
DTSTART:20231105T060000
END:STANDARD
BEGIN:DAYLIGHT
TZOFFSETFROM:-0500
TZOFFSETTO:-0400
TZNAME:EDT
DTSTART:20240310T070000
END:DAYLIGHT
BEGIN:STANDARD
TZOFFSETFROM:-0400
TZOFFSETTO:-0500
TZNAME:EST
DTSTART:20241103T060000
END:STANDARD
BEGIN:DAYLIGHT
TZOFFSETFROM:-0500
TZOFFSETTO:-0400
TZNAME:EDT
DTSTART:20250309T070000
END:DAYLIGHT
BEGIN:STANDARD
TZOFFSETFROM:-0400
TZOFFSETTO:-0500
TZNAME:EST
DTSTART:20251102T060000
END:STANDARD
END:VTIMEZONE
BEGIN:VEVENT
DTSTART;VALUE=DATE:20241021
DTEND;VALUE=DATE:20241024
DTSTAMP:20260422T062120
CREATED:20240117T195933Z
LAST-MODIFIED:20241014T173430Z
UID:76304348-1729468800-1729727999@www.kraftkennedy.com
SUMMARY:NetDocuments Inspire 2024
DESCRIPTION:NetDocuments Inspire 2024\nNetDocuments Inspire 2024 brings a diverse community of industry leaders\, experts\, influencers\, to explore innovation and anticipated needs for the future.\nAttendees will learn more about: \n\n\nHow AI is revolutionizing legal workflows and the solutions you rely on every day\n\n\n\n\nHow NetDocuments is innovating with the Microsoft productivity tools you already use\n\n\n\n\n\nHow to plan for the rapid pace of innovation in the legal tech space\n\n\n\n\n\n\nHow to maximize your success and achieve greater levels of security\, compliance\, and productivity with the NetDocuments platform.\n\n\n\nIndustry experts will share the latest in legal technology trends and leave with a deeper understanding of how to maximize their success and achieve greater levels of security\, compliance\, and productivity with NetDocuments. \nTopics will include optimizing your NetDocuments environment\, Teams\, security\, remote work\, actionable insights\, adoption strategies\, transaction management\, and more! \nWhen: October 21-23\, 2024\nWhere: Hilton Singnia Atlanta\, GA \nLet us know if we’ll see you at NetDocuments Inspire 2024. \nOur team is available to strategize about your learning objectives and the areas of innovation you’d like to explore. Connect with our team for an advance planning session. \nCheck out our upcoming events.
URL:https://www.kraftkennedy.com/event/netdocuments-inspire-2024/
LOCATION:Hilton Singnia\, 159 Northside Dr NW\, Atlanta\, GA\, 30313\, United States
CATEGORIES:Live Events
ATTACH;FMTTYPE=image/jpeg:https://www.kraftkennedy.com/wp-content/uploads/2024/01/NetDocuments-Inspire-2024-scaled.jpg
END:VEVENT
END:VCALENDAR