BEGIN:VCALENDAR
VERSION:2.0
PRODID:-//Kraft Kennedy - ECPv6.15.20//NONSGML v1.0//EN
CALSCALE:GREGORIAN
METHOD:PUBLISH
X-WR-CALNAME:Kraft Kennedy
X-ORIGINAL-URL:https://www.kraftkennedy.com
X-WR-CALDESC:Events for Kraft Kennedy
REFRESH-INTERVAL;VALUE=DURATION:PT1H
X-Robots-Tag:noindex
X-PUBLISHED-TTL:PT1H
BEGIN:VTIMEZONE
TZID:America/New_York
BEGIN:DAYLIGHT
TZOFFSETFROM:-0500
TZOFFSETTO:-0400
TZNAME:EDT
DTSTART:20230312T070000
END:DAYLIGHT
BEGIN:STANDARD
TZOFFSETFROM:-0400
TZOFFSETTO:-0500
TZNAME:EST
DTSTART:20231105T060000
END:STANDARD
BEGIN:DAYLIGHT
TZOFFSETFROM:-0500
TZOFFSETTO:-0400
TZNAME:EDT
DTSTART:20240310T070000
END:DAYLIGHT
BEGIN:STANDARD
TZOFFSETFROM:-0400
TZOFFSETTO:-0500
TZNAME:EST
DTSTART:20241103T060000
END:STANDARD
BEGIN:DAYLIGHT
TZOFFSETFROM:-0500
TZOFFSETTO:-0400
TZNAME:EDT
DTSTART:20250309T070000
END:DAYLIGHT
BEGIN:STANDARD
TZOFFSETFROM:-0400
TZOFFSETTO:-0500
TZNAME:EST
DTSTART:20251102T060000
END:STANDARD
END:VTIMEZONE
BEGIN:VEVENT
DTSTART;VALUE=DATE:20241006
DTEND;VALUE=DATE:20241008
DTSTAMP:20260422T074846
CREATED:20240920T191408Z
LAST-MODIFIED:20240920T193128Z
UID:76305396-1728172800-1728345599@www.kraftkennedy.com
SUMMARY:ALA Boston Leadership Conference & Expo
DESCRIPTION:The 2024 Annual Leadership Conference & Business Partner Expo is the premier conference for law firm administrators in New England. This 2-day ALA Boston conference is made even more special in celebration of the Chapter’s 50th anniversary! \nRegistration and more information here. \nWhen: Sunday\, October 6\, 2024 – Monday\, October 7\, 2024\nWhere: Encore Boston Harbor \nCheck out our upcoming events.
URL:https://www.kraftkennedy.com/event/ala-boston-leadership-conference-expo-2/
CATEGORIES:ALA,Live Events
ATTACH;FMTTYPE=image/jpeg:https://www.kraftkennedy.com/wp-content/uploads/2024/09/ALA-Boston-2024-Leadership-Conference-and-Expo-scaled-e1726859184748.jpg
END:VEVENT
END:VCALENDAR