BEGIN:VCALENDAR
VERSION:2.0
PRODID:-//Kraft Kennedy - ECPv6.15.20//NONSGML v1.0//EN
CALSCALE:GREGORIAN
METHOD:PUBLISH
X-ORIGINAL-URL:https://www.kraftkennedy.com
X-WR-CALDESC:Events for Kraft Kennedy
REFRESH-INTERVAL;VALUE=DURATION:PT1H
X-Robots-Tag:noindex
X-PUBLISHED-TTL:PT1H
BEGIN:VTIMEZONE
TZID:America/New_York
BEGIN:DAYLIGHT
TZOFFSETFROM:-0500
TZOFFSETTO:-0400
TZNAME:EDT
DTSTART:20230312T070000
END:DAYLIGHT
BEGIN:STANDARD
TZOFFSETFROM:-0400
TZOFFSETTO:-0500
TZNAME:EST
DTSTART:20231105T060000
END:STANDARD
BEGIN:DAYLIGHT
TZOFFSETFROM:-0500
TZOFFSETTO:-0400
TZNAME:EDT
DTSTART:20240310T070000
END:DAYLIGHT
BEGIN:STANDARD
TZOFFSETFROM:-0400
TZOFFSETTO:-0500
TZNAME:EST
DTSTART:20241103T060000
END:STANDARD
BEGIN:DAYLIGHT
TZOFFSETFROM:-0500
TZOFFSETTO:-0400
TZNAME:EDT
DTSTART:20250309T070000
END:DAYLIGHT
BEGIN:STANDARD
TZOFFSETFROM:-0400
TZOFFSETTO:-0500
TZNAME:EST
DTSTART:20251102T060000
END:STANDARD
END:VTIMEZONE
BEGIN:VEVENT
DTSTART;TZID=America/New_York:20240925T153000
DTEND;TZID=America/New_York:20240925T193000
DTSTAMP:20260422T065312
CREATED:20240910T175131Z
LAST-MODIFIED:20240910T175409Z
UID:76305374-1727278200-1727292600@www.kraftkennedy.com
SUMMARY:ALA Chicago Bi-Monthly Education Event
DESCRIPTION:Bi-Monthly Education Event & Business Partner Appreciation Event\nSara Zezza and Caesar Rodriguez will be diving into an afternoon of knowledge-sharing with ALA Chicago friends at the Bi-monthly Education Event\, followed by an evening of drinks and lite bites at the beautiful Aba Chicago. \nThis bi-monthly education event will be led by Kim Ess\, the CEO of Nilan Johnson Lewis\, a mid-sized firm and one of the largest WBENC certified women business enterprises. \nWhen: Wednesday\, Sept 25  |  3:30 PM – 7:30 PM\nWhere: Aba Chicago \nCheck out our upcoming events.
URL:https://www.kraftkennedy.com/event/ala-chicago-bi-monthly-education-event/
CATEGORIES:ALA,Live Events
ATTACH;FMTTYPE=image/jpeg:https://www.kraftkennedy.com/wp-content/uploads/2024/09/ALA-Chicago-Bimonthly-Education-Event-scaled-e1725990008423.jpg
END:VEVENT
BEGIN:VEVENT
DTSTART;TZID=America/New_York:20240925T170000
DTEND;TZID=America/New_York:20240925T200000
DTSTAMP:20260422T065312
CREATED:20240910T171127Z
LAST-MODIFIED:20240910T171212Z
UID:76305365-1727283600-1727294400@www.kraftkennedy.com
SUMMARY:ALA Philly BP Appreciation Event
DESCRIPTION:ALA Philly BP Appreciation Event\nStacy Jenkins is ready for a lively evening amongst ALA Philly friends at the BP Appreciation event. Philadelphia Distilling is the first craft distillery in Pennsylvania since prohibition\, creating spirits that celebrate big\, bold flavor in a batch-by-batch process. \nRegister here\nWhen: Wednesday\, Sept 25\, 2024  |  5:00 PM – 8:00 PM\nWhere: Philadelphia Distilling \nCheck out our upcoming events.
URL:https://www.kraftkennedy.com/event/ala-philly-bp-appreciation-event/
CATEGORIES:ALA,Live Events
ATTACH;FMTTYPE=image/jpeg:https://www.kraftkennedy.com/wp-content/uploads/2024/09/ALA-Philly-Sept-BP-Appreciation-Event-scaled-e1725988082380.jpg
END:VEVENT
END:VCALENDAR