BEGIN:VCALENDAR
VERSION:2.0
PRODID:-//Kraft Kennedy - ECPv6.15.20//NONSGML v1.0//EN
CALSCALE:GREGORIAN
METHOD:PUBLISH
X-ORIGINAL-URL:https://www.kraftkennedy.com
X-WR-CALDESC:Events for Kraft Kennedy
REFRESH-INTERVAL;VALUE=DURATION:PT1H
X-Robots-Tag:noindex
X-PUBLISHED-TTL:PT1H
BEGIN:VTIMEZONE
TZID:America/New_York
BEGIN:DAYLIGHT
TZOFFSETFROM:-0500
TZOFFSETTO:-0400
TZNAME:EDT
DTSTART:20230312T070000
END:DAYLIGHT
BEGIN:STANDARD
TZOFFSETFROM:-0400
TZOFFSETTO:-0500
TZNAME:EST
DTSTART:20231105T060000
END:STANDARD
BEGIN:DAYLIGHT
TZOFFSETFROM:-0500
TZOFFSETTO:-0400
TZNAME:EDT
DTSTART:20240310T070000
END:DAYLIGHT
BEGIN:STANDARD
TZOFFSETFROM:-0400
TZOFFSETTO:-0500
TZNAME:EST
DTSTART:20241103T060000
END:STANDARD
BEGIN:DAYLIGHT
TZOFFSETFROM:-0500
TZOFFSETTO:-0400
TZNAME:EDT
DTSTART:20250309T070000
END:DAYLIGHT
BEGIN:STANDARD
TZOFFSETFROM:-0400
TZOFFSETTO:-0500
TZNAME:EST
DTSTART:20251102T060000
END:STANDARD
END:VTIMEZONE
BEGIN:VEVENT
DTSTART;VALUE=DATE:20240909
DTEND;VALUE=DATE:20240910
DTSTAMP:20260422T074945
CREATED:20240806T162733Z
LAST-MODIFIED:20240906T150853Z
UID:76305280-1725840000-1725926399@www.kraftkennedy.com
SUMMARY:Ignite 2024 Chicago
DESCRIPTION:Ignite 2024 Chicago\nThe Kraft Kennedy team is ready for a day of networking\, connection\, and insightful knowledge exchanges. Join us for the Chicago\, IL installation of SurePoint Ignite 2024. \nKeeping up with the constantly evolving threat landscape and increasingly complicated preventative actions required can be confusing. \nIn this educational session\, Guarding Against Cyber Intruders: Lessons from the Frontlines\, we will dive into the latest cyber-criminal tactics as well as preventive measures your firm can adopt immediately. \nHear real-life stories from an industry insider and gain a deeper understanding of exactly how threat actors breach systems\, their actions once inside\, and the resulting impact on businesses. \nThese stories will provide valuable lessons based on real life organizational mistakes\, leaving all attendees better prepared to navigate similar threats. \nThis non-technical presentation is tailored for Office Administrators\, HR personnel\, finance teams\, client-facing roles\, and decision-makers. \nWhen: Thursday\, September 9\, 2024\nWhere: Loews Chicago \nConnect with us in advance.
URL:https://www.kraftkennedy.com/event/ignite-2024-chicago/
CATEGORIES:Business,Live Events
ATTACH;FMTTYPE=image/jpeg:https://www.kraftkennedy.com/wp-content/uploads/2024/08/SurePoint-Ignite-Chicago-scaled.jpg
END:VEVENT
END:VCALENDAR