BEGIN:VCALENDAR
VERSION:2.0
PRODID:-//Kraft Kennedy - ECPv6.15.20//NONSGML v1.0//EN
CALSCALE:GREGORIAN
METHOD:PUBLISH
X-WR-CALNAME:Kraft Kennedy
X-ORIGINAL-URL:https://www.kraftkennedy.com
X-WR-CALDESC:Events for Kraft Kennedy
REFRESH-INTERVAL;VALUE=DURATION:PT1H
X-Robots-Tag:noindex
X-PUBLISHED-TTL:PT1H
BEGIN:VTIMEZONE
TZID:America/New_York
BEGIN:DAYLIGHT
TZOFFSETFROM:-0500
TZOFFSETTO:-0400
TZNAME:EDT
DTSTART:20160313T070000
END:DAYLIGHT
BEGIN:STANDARD
TZOFFSETFROM:-0400
TZOFFSETTO:-0500
TZNAME:EST
DTSTART:20161106T060000
END:STANDARD
BEGIN:DAYLIGHT
TZOFFSETFROM:-0500
TZOFFSETTO:-0400
TZNAME:EDT
DTSTART:20170312T070000
END:DAYLIGHT
BEGIN:STANDARD
TZOFFSETFROM:-0400
TZOFFSETTO:-0500
TZNAME:EST
DTSTART:20171105T060000
END:STANDARD
BEGIN:DAYLIGHT
TZOFFSETFROM:-0500
TZOFFSETTO:-0400
TZNAME:EDT
DTSTART:20180311T070000
END:DAYLIGHT
BEGIN:STANDARD
TZOFFSETFROM:-0400
TZOFFSETTO:-0500
TZNAME:EST
DTSTART:20181104T060000
END:STANDARD
END:VTIMEZONE
BEGIN:VEVENT
DTSTART;TZID=America/New_York:20170813T080000
DTEND;TZID=America/New_York:20170817T170000
DTSTAMP:20260422T061358
CREATED:20170105T171217Z
LAST-MODIFIED:20200820T151500Z
UID:76282424-1502611200-1502989200@www.kraftkennedy.com
SUMMARY:ILTACON 2017
DESCRIPTION:Exchange Master Joe Hoegler\, DMS architect Brian Podolsky\, Citrix XenApp/XenDesktop CCIA Jeff Silverman\, Project Management expert Pat Mansuy will be onsite at this year’s conference. Don’t miss SCCM\, Windows 10\, App-V\, UE-V expert Chris Owens. Schedule a private meeting in advance with our team to get the most out of your ILTACON experience. \nStop by our booth to enter to win our Surface Pro giveaway and confer with our leading technology experts. Play in ILTA’s 19th annual golf tournament and don’t forget to join us for cocktails throughout the week!
URL:https://www.kraftkennedy.com/event/iltacon-2017/
LOCATION:Mandalay Bay Resort and Casino\, 3950 S Las Vegas Blvd\, Las Vegas\, NV\, 89119\, United States
ATTACH;FMTTYPE=image/jpeg:https://www.kraftkennedy.com/wp-content/uploads/2017/01/ILTACON-2017-logo.jpg
END:VEVENT
END:VCALENDAR