BEGIN:VCALENDAR
VERSION:2.0
PRODID:-//Kraft Kennedy - ECPv6.15.20//NONSGML v1.0//EN
CALSCALE:GREGORIAN
METHOD:PUBLISH
X-ORIGINAL-URL:https://www.kraftkennedy.com
X-WR-CALDESC:Events for Kraft Kennedy
REFRESH-INTERVAL;VALUE=DURATION:PT1H
X-Robots-Tag:noindex
X-PUBLISHED-TTL:PT1H
BEGIN:VTIMEZONE
TZID:America/New_York
BEGIN:DAYLIGHT
TZOFFSETFROM:-0500
TZOFFSETTO:-0400
TZNAME:EDT
DTSTART:20160313T070000
END:DAYLIGHT
BEGIN:STANDARD
TZOFFSETFROM:-0400
TZOFFSETTO:-0500
TZNAME:EST
DTSTART:20161106T060000
END:STANDARD
BEGIN:DAYLIGHT
TZOFFSETFROM:-0500
TZOFFSETTO:-0400
TZNAME:EDT
DTSTART:20170312T070000
END:DAYLIGHT
BEGIN:STANDARD
TZOFFSETFROM:-0400
TZOFFSETTO:-0500
TZNAME:EST
DTSTART:20171105T060000
END:STANDARD
BEGIN:DAYLIGHT
TZOFFSETFROM:-0500
TZOFFSETTO:-0400
TZNAME:EDT
DTSTART:20180311T070000
END:DAYLIGHT
BEGIN:STANDARD
TZOFFSETFROM:-0400
TZOFFSETTO:-0500
TZNAME:EST
DTSTART:20181104T060000
END:STANDARD
END:VTIMEZONE
BEGIN:VEVENT
DTSTART;TZID=America/New_York:20170803T120000
DTEND;TZID=America/New_York:20170803T170000
DTSTAMP:20260422T045202
CREATED:20170605T202925Z
LAST-MODIFIED:20170605T202925Z
UID:76284975-1501761600-1501779600@www.kraftkennedy.com
SUMMARY:IT Thought Leaders Cubs Outing
DESCRIPTION:A sport for thinkers!\nCatch the World Series Champion Chicago Cubs against the Arizona Diamondbacks with your peers for an afternoon of valuable conversations on a Wrigley Field Rooftop! \nJoin hosts NetDocs\, Kraft Kennedy and Workshare to discuss cutting edge developments in document security and collaboration\, and find out what’s coming next from the industry leaders\, over tasty food and drinks! \nThis is a limited invitation. Please contact us if you have industry friends who you’d like to include in the outing. \n\nTiming: We’ll begin gathering on the rooftop by 12:20pm for an hour ‘warm-up’ before game time at 1:20pm! \nRequest Registration
URL:https://www.kraftkennedy.com/event/thought-leaders-cubs-outing/
LOCATION:Wrigley Rooftop – Left Field\, 1048 Waveland Ave \, Chicago\, IL\, 60613\, United States
ATTACH;FMTTYPE=image/jpeg:https://www.kraftkennedy.com/wp-content/uploads/2017/06/IMG_9264.jpg
END:VEVENT
END:VCALENDAR