BEGIN:VCALENDAR
VERSION:2.0
PRODID:-//Kraft Kennedy - ECPv6.15.20//NONSGML v1.0//EN
CALSCALE:GREGORIAN
METHOD:PUBLISH
X-WR-CALNAME:Kraft Kennedy
X-ORIGINAL-URL:https://www.kraftkennedy.com
X-WR-CALDESC:Events for Kraft Kennedy
REFRESH-INTERVAL;VALUE=DURATION:PT1H
X-Robots-Tag:noindex
X-PUBLISHED-TTL:PT1H
BEGIN:VTIMEZONE
TZID:America/New_York
BEGIN:DAYLIGHT
TZOFFSETFROM:-0500
TZOFFSETTO:-0400
TZNAME:EDT
DTSTART:20160313T070000
END:DAYLIGHT
BEGIN:STANDARD
TZOFFSETFROM:-0400
TZOFFSETTO:-0500
TZNAME:EST
DTSTART:20161106T060000
END:STANDARD
BEGIN:DAYLIGHT
TZOFFSETFROM:-0500
TZOFFSETTO:-0400
TZNAME:EDT
DTSTART:20170312T070000
END:DAYLIGHT
BEGIN:STANDARD
TZOFFSETFROM:-0400
TZOFFSETTO:-0500
TZNAME:EST
DTSTART:20171105T060000
END:STANDARD
BEGIN:DAYLIGHT
TZOFFSETFROM:-0500
TZOFFSETTO:-0400
TZNAME:EDT
DTSTART:20180311T070000
END:DAYLIGHT
BEGIN:STANDARD
TZOFFSETFROM:-0400
TZOFFSETTO:-0500
TZNAME:EST
DTSTART:20181104T060000
END:STANDARD
END:VTIMEZONE
BEGIN:VEVENT
DTSTART;TZID=America/New_York:20170619T120000
DTEND;TZID=America/New_York:20170619T130000
DTSTAMP:20260420T045259
CREATED:20170504T172916Z
LAST-MODIFIED:20170504T172916Z
UID:76284652-1497873600-1497877200@www.kraftkennedy.com
SUMMARY:Next-Gen Application and Desktop Delivery with Citrix XenApp and XenDesktop
DESCRIPTION:Webinar\n\nCitrix continues to innovate with fast-paced releases to XenApp and XenDesktop. Join Kraft Kennedy consultants Jeff Silverman and Clinton Gates for a post-Synergy 2017 review of new features\, including application layering via Unidesk and adaptive transport and display technologies. \nRegister here. \n 
URL:https://www.kraftkennedy.com/event/next-gen-application-desktop-delivery-citrix-xenapp-xendesktop/
LOCATION:Webinar
ATTACH;FMTTYPE=image/png:https://www.kraftkennedy.com/wp-content/uploads/2017/05/citrix-banner.png
END:VEVENT
END:VCALENDAR