BEGIN:VCALENDAR
VERSION:2.0
PRODID:-//Kraft Kennedy - ECPv6.15.20//NONSGML v1.0//EN
CALSCALE:GREGORIAN
METHOD:PUBLISH
X-WR-CALNAME:Kraft Kennedy
X-ORIGINAL-URL:https://www.kraftkennedy.com
X-WR-CALDESC:Events for Kraft Kennedy
REFRESH-INTERVAL;VALUE=DURATION:PT1H
X-Robots-Tag:noindex
X-PUBLISHED-TTL:PT1H
BEGIN:VTIMEZONE
TZID:America/New_York
BEGIN:DAYLIGHT
TZOFFSETFROM:-0500
TZOFFSETTO:-0400
TZNAME:EDT
DTSTART:20160313T070000
END:DAYLIGHT
BEGIN:STANDARD
TZOFFSETFROM:-0400
TZOFFSETTO:-0500
TZNAME:EST
DTSTART:20161106T060000
END:STANDARD
BEGIN:DAYLIGHT
TZOFFSETFROM:-0500
TZOFFSETTO:-0400
TZNAME:EDT
DTSTART:20170312T070000
END:DAYLIGHT
BEGIN:STANDARD
TZOFFSETFROM:-0400
TZOFFSETTO:-0500
TZNAME:EST
DTSTART:20171105T060000
END:STANDARD
BEGIN:DAYLIGHT
TZOFFSETFROM:-0500
TZOFFSETTO:-0400
TZNAME:EDT
DTSTART:20180311T070000
END:DAYLIGHT
BEGIN:STANDARD
TZOFFSETFROM:-0400
TZOFFSETTO:-0500
TZNAME:EST
DTSTART:20181104T060000
END:STANDARD
END:VTIMEZONE
BEGIN:VEVENT
DTSTART;VALUE=DATE:20170613
DTEND;VALUE=DATE:20170615
DTSTAMP:20260420T050754
CREATED:20170413T211202Z
LAST-MODIFIED:20200916T135805Z
UID:76284462-1497312000-1497484799@www.kraftkennedy.com
SUMMARY:LegalSec Summit 2017
DESCRIPTION:ILTA’s 5th Annual Event on Legal Security\nWhatever your role in security\, there’s something here for you! Hear from experts who will share their experiences related to information security\, and develop takeaways to use in your organization. The target audience for ILTA’s LegalSEC Summit is legal technology professionals at every level and general counsel who touch legal security in their law firm or law department and want to learn more and connect with peers. \n\nLegalSEC Day 1: Cocktails and Lite Bytes!\nJoin the Kraft Kennedy team and your peers to network over cocktails and appetizers at Highline RxR at the end of the first conference day\, Tuesday\, June 13th at 5:30pm.  \n\n\nSession: Microsoft Advanced Threat Analytics\n\nPractice Architect Dominick Ciacciarelli will be speaking on June 14\, 2:30PM-3:30PM in Salon I with Jeremy Phelps\, Bob Davis\, and Brian Cooke.\n\n\n\n\n  \nIf you’ll be at the conference\, get in touch with our team in advance so we can involve you in the plans!
URL:https://www.kraftkennedy.com/event/legalsec-summit-2017/
ATTACH;FMTTYPE=image/jpeg:https://www.kraftkennedy.com/wp-content/uploads/2017/04/legal-sec-e1492117387186.jpg
END:VEVENT
END:VCALENDAR