BEGIN:VCALENDAR
VERSION:2.0
PRODID:-//Kraft Kennedy - ECPv6.15.20//NONSGML v1.0//EN
CALSCALE:GREGORIAN
METHOD:PUBLISH
X-WR-CALNAME:Kraft Kennedy
X-ORIGINAL-URL:https://www.kraftkennedy.com
X-WR-CALDESC:Events for Kraft Kennedy
REFRESH-INTERVAL;VALUE=DURATION:PT1H
X-Robots-Tag:noindex
X-PUBLISHED-TTL:PT1H
BEGIN:VTIMEZONE
TZID:America/New_York
BEGIN:DAYLIGHT
TZOFFSETFROM:-0500
TZOFFSETTO:-0400
TZNAME:EDT
DTSTART:20240310T070000
END:DAYLIGHT
BEGIN:STANDARD
TZOFFSETFROM:-0400
TZOFFSETTO:-0500
TZNAME:EST
DTSTART:20241103T060000
END:STANDARD
BEGIN:DAYLIGHT
TZOFFSETFROM:-0500
TZOFFSETTO:-0400
TZNAME:EDT
DTSTART:20250309T070000
END:DAYLIGHT
BEGIN:STANDARD
TZOFFSETFROM:-0400
TZOFFSETTO:-0500
TZNAME:EST
DTSTART:20251102T060000
END:STANDARD
BEGIN:DAYLIGHT
TZOFFSETFROM:-0500
TZOFFSETTO:-0400
TZNAME:EDT
DTSTART:20260308T070000
END:DAYLIGHT
BEGIN:STANDARD
TZOFFSETFROM:-0400
TZOFFSETTO:-0500
TZNAME:EST
DTSTART:20261101T060000
END:STANDARD
END:VTIMEZONE
BEGIN:VEVENT
DTSTART;TZID=America/New_York:20250625T170000
DTEND;TZID=America/New_York:20250625T180000
DTSTAMP:20260422T091941
CREATED:20250625T142403Z
LAST-MODIFIED:20250625T142403Z
UID:76306710-1750870800-1750874400@www.kraftkennedy.com
SUMMARY:Wine Pop-Up
DESCRIPTION:ALA Golden Gate Wine Pop-Up\nChris Arrowsmith will gather with ALA Golden Gate friends for a flavorful evening of conversation\, connection\, and wine tasting. \nWhen: Wednesday\, June 25\, 2025  |  5:00 PM – 6:00 PM\nWhere: Ginger’s \nStay in the know about our ALA activities and more – subscribe here.\nFollow us on LinkedIn and check out our upcoming events.
URL:https://www.kraftkennedy.com/event/wine-pop-up/
CATEGORIES:ALA,Live Events
ATTACH;FMTTYPE=image/jpeg:https://www.kraftkennedy.com/wp-content/uploads/2025/06/ALA-Golden-Gate-June-2025-Wine-Pop-Up-6_25_25-scaled.jpg
END:VEVENT
END:VCALENDAR