BEGIN:VCALENDAR
VERSION:2.0
PRODID:-//Kraft Kennedy - ECPv6.15.20//NONSGML v1.0//EN
CALSCALE:GREGORIAN
METHOD:PUBLISH
X-WR-CALNAME:Kraft Kennedy
X-ORIGINAL-URL:https://www.kraftkennedy.com
X-WR-CALDESC:Events for Kraft Kennedy
REFRESH-INTERVAL;VALUE=DURATION:PT1H
X-Robots-Tag:noindex
X-PUBLISHED-TTL:PT1H
BEGIN:VTIMEZONE
TZID:America/New_York
BEGIN:DAYLIGHT
TZOFFSETFROM:-0500
TZOFFSETTO:-0400
TZNAME:EDT
DTSTART:20180311T070000
END:DAYLIGHT
BEGIN:STANDARD
TZOFFSETFROM:-0400
TZOFFSETTO:-0500
TZNAME:EST
DTSTART:20181104T060000
END:STANDARD
BEGIN:DAYLIGHT
TZOFFSETFROM:-0500
TZOFFSETTO:-0400
TZNAME:EDT
DTSTART:20190310T070000
END:DAYLIGHT
BEGIN:STANDARD
TZOFFSETFROM:-0400
TZOFFSETTO:-0500
TZNAME:EST
DTSTART:20191103T060000
END:STANDARD
BEGIN:DAYLIGHT
TZOFFSETFROM:-0500
TZOFFSETTO:-0400
TZNAME:EDT
DTSTART:20200308T070000
END:DAYLIGHT
BEGIN:STANDARD
TZOFFSETFROM:-0400
TZOFFSETTO:-0500
TZNAME:EST
DTSTART:20201101T060000
END:STANDARD
END:VTIMEZONE
BEGIN:VEVENT
DTSTART;TZID=America/New_York:20190612T083000
DTEND;TZID=America/New_York:20190612T100000
DTSTAMP:20260422T173017
CREATED:20190516T195642Z
LAST-MODIFIED:20190516T195642Z
UID:76292322-1560328200-1560333600@www.kraftkennedy.com
SUMMARY:Welcome to Silicon Valley: Innovation for Small Businesses
DESCRIPTION:Join us to start your day with a blast of IT insight and innovation over breakfast at the Datto Global Headquarters in Norwalk\, CT.\nSpend an hour with us\, learn about these 3 crucial subjects: \n\nHow to automate maintenance basics. Patching\, backups and monitoring don’t have to be a drain.\nHow to keep the bad guys out. Discover the 5 most commonly overlooked security gaps.\nHow prepared are you? A critical IT question: in the event of an incident; cyber-attack or force of nature\, is your business continuity at stake?\n\nAt the conclusion of the session\, stick around for two interactive opportunities. \nGet some work done before heading back to the office. Participate in a 5 minute exercise one-on-one with a Datto backup specialist. Calculate your RPO and RTO (ask us about it!). \nTour the Datto headquarters! Check out the Silicon Valley/Googlesque facilities\, arcade games\, napping pods\, and more at the fastest growing backup company in Connecticut.\nMore about the session:\nCan you achieve big-firm IT on a small-firm budget? \nIn this seminar\, you will learn concrete steps to improve your up-time\, deliver user satisfaction\, and protect yourself from bad actors. \nFind out how you can free yourself from patching and create automated workflows for the tasks needed to manage a healthy network\, such as deactivating unused AD accounts and creating up-to-the-minute backups. Our emphasis will be on operational and security best practices with a cost-effective approach. Routinize the routine so you can focus on innovation.\n\n\n\n\n  \nREQUEST REGISTRATION\n 
URL:https://www.kraftkennedy.com/event/welcome-to-silicon-valley-innovation-for-small-businesses/
LOCATION:Datto Inc.\, 101 Merritt 7\, Norwalk\, CT\, 06851\, United States
ATTACH;FMTTYPE=image/jpeg:https://www.kraftkennedy.com/wp-content/uploads/2019/05/Datto-3.jpg
END:VEVENT
END:VCALENDAR