BEGIN:VCALENDAR
VERSION:2.0
PRODID:-//Kraft Kennedy - ECPv6.15.20//NONSGML v1.0//EN
CALSCALE:GREGORIAN
METHOD:PUBLISH
X-WR-CALNAME:Kraft Kennedy
X-ORIGINAL-URL:https://www.kraftkennedy.com
X-WR-CALDESC:Events for Kraft Kennedy
REFRESH-INTERVAL;VALUE=DURATION:PT1H
X-Robots-Tag:noindex
X-PUBLISHED-TTL:PT1H
BEGIN:VTIMEZONE
TZID:America/New_York
BEGIN:DAYLIGHT
TZOFFSETFROM:-0500
TZOFFSETTO:-0400
TZNAME:EDT
DTSTART:20210314T070000
END:DAYLIGHT
BEGIN:STANDARD
TZOFFSETFROM:-0400
TZOFFSETTO:-0500
TZNAME:EST
DTSTART:20211107T060000
END:STANDARD
BEGIN:DAYLIGHT
TZOFFSETFROM:-0500
TZOFFSETTO:-0400
TZNAME:EDT
DTSTART:20220313T070000
END:DAYLIGHT
BEGIN:STANDARD
TZOFFSETFROM:-0400
TZOFFSETTO:-0500
TZNAME:EST
DTSTART:20221106T060000
END:STANDARD
BEGIN:DAYLIGHT
TZOFFSETFROM:-0500
TZOFFSETTO:-0400
TZNAME:EDT
DTSTART:20230312T070000
END:DAYLIGHT
BEGIN:STANDARD
TZOFFSETFROM:-0400
TZOFFSETTO:-0500
TZNAME:EST
DTSTART:20231105T060000
END:STANDARD
END:VTIMEZONE
BEGIN:VEVENT
DTSTART;TZID=America/New_York:20221012T101500
DTEND;TZID=America/New_York:20221012T111500
DTSTAMP:20260422T012459
CREATED:20221010T203133Z
LAST-MODIFIED:20221010T203133Z
UID:76302351-1665569700-1665573300@www.kraftkennedy.com
SUMMARY:LegalSEC Summit 2022
DESCRIPTION:Join Kraft Kennedy CTO\, Chris Owens for a spotlight session on Wednesday\, October 12th at the LegalSEC Summit 2022. Attendees will gain insights into managing access to critical data and applications not only on mobile devices but also PCs through tools such as Microsoft Endpoint Manager (MEM) or by way of thin client architecture (Citrix\, AVD). Learn what is mandatory and realistic to expect now\, versus what is possible to attain in the very near term. \nBYOD vs. Company Devices Including Mobile Devices and PCs discussion points:\n1. Is the gap between security features and functions widening between iOS and Android? Is that driving firms to force users to iOS and is that an alarmist approach? What about personal Windows-based devices? \n2. What seems to be the direction for thin client architecture and allowing personal devices to access systems remotely through a Citrix session or some other remote session solution? Are any firms moving away from these technologies? Should Microsoft Endpoint Manager (MEM)\Intune management be required for this type of access? What is realistic? \n3. Is there really a difference from a security posture between a firm-provided device and a personal device these days? Can mobile devices be part of your enhanced security framework\, especially along the identity plane? Could other devices be involved? How is multi-factor authentication evolving with conditional access? Is passwordless a realistic goal? What are the steps to get there? \nWhen: October 10-12\, 2022  |  Wednesday\, October 12\, 2022  |  10:15 AM – 11:15 AM CDT\nWhere: San Antonio Marriott Rivercenter
URL:https://www.kraftkennedy.com/event/legalsec-summit-2022/
CATEGORIES:Live Events
ATTACH;FMTTYPE=image/jpeg:https://www.kraftkennedy.com/wp-content/uploads/2022/10/LSS22-BYOD-vs.-Company-Devices-Including-Mobile-Devices-and-PCs-Owens.jpg
END:VEVENT
END:VCALENDAR