BEGIN:VCALENDAR
VERSION:2.0
PRODID:-//Kraft Kennedy - ECPv6.15.20//NONSGML v1.0//EN
CALSCALE:GREGORIAN
METHOD:PUBLISH
X-WR-CALNAME:Kraft Kennedy
X-ORIGINAL-URL:https://www.kraftkennedy.com
X-WR-CALDESC:Events for Kraft Kennedy
REFRESH-INTERVAL;VALUE=DURATION:PT1H
X-Robots-Tag:noindex
X-PUBLISHED-TTL:PT1H
BEGIN:VTIMEZONE
TZID:America/New_York
BEGIN:DAYLIGHT
TZOFFSETFROM:-0500
TZOFFSETTO:-0400
TZNAME:EDT
DTSTART:20180311T070000
END:DAYLIGHT
BEGIN:STANDARD
TZOFFSETFROM:-0400
TZOFFSETTO:-0500
TZNAME:EST
DTSTART:20181104T060000
END:STANDARD
BEGIN:DAYLIGHT
TZOFFSETFROM:-0500
TZOFFSETTO:-0400
TZNAME:EDT
DTSTART:20190310T070000
END:DAYLIGHT
BEGIN:STANDARD
TZOFFSETFROM:-0400
TZOFFSETTO:-0500
TZNAME:EST
DTSTART:20191103T060000
END:STANDARD
BEGIN:DAYLIGHT
TZOFFSETFROM:-0500
TZOFFSETTO:-0400
TZNAME:EDT
DTSTART:20200308T070000
END:DAYLIGHT
BEGIN:STANDARD
TZOFFSETFROM:-0400
TZOFFSETTO:-0500
TZNAME:EST
DTSTART:20201101T060000
END:STANDARD
END:VTIMEZONE
BEGIN:VEVENT
DTSTART;TZID=America/New_York:20190502T073000
DTEND;TZID=America/New_York:20190502T163000
DTSTAMP:20260422T153701
CREATED:20190416T212059Z
LAST-MODIFIED:20190416T212059Z
UID:76291974-1556782200-1556814600@www.kraftkennedy.com
SUMMARY:ILTA Young Professionals Inaugural Summit
DESCRIPTION:Kraft Kennedy is proud to support ILTA’s Inaugural Summit for Young Professionals. \nIn this innovation-focused\, collaborative event\, young professionals will spend a day with your legal technology peers practicing key skills designed for career advancement and out-of-the-box thinking. Learn valuable feedback techniques to help you navigate difficult discussions\, proven design-thinking methodologies to help you lead meaningful change as well as additional arrows for your career quiver.\nJoin Chris Wilson of Kraft Kennedy as we explore the path to Becoming a Change Leader! \nRegister through ILTA \nor reach out to request more info
URL:https://www.kraftkennedy.com/event/ilta-young-professionals-inaugural-summit/
LOCATION:Microsoft Technology Center New York\, 11 Times Square\, New York\, NY\, 10036\, United States
ATTACH;FMTTYPE=image/jpeg:https://www.kraftkennedy.com/wp-content/uploads/2019/04/YoungProfessionals.jpg
END:VEVENT
END:VCALENDAR