BEGIN:VCALENDAR
VERSION:2.0
PRODID:-//Kraft Kennedy - ECPv6.15.20//NONSGML v1.0//EN
CALSCALE:GREGORIAN
METHOD:PUBLISH
X-WR-CALNAME:Kraft Kennedy
X-ORIGINAL-URL:https://www.kraftkennedy.com
X-WR-CALDESC:Events for Kraft Kennedy
REFRESH-INTERVAL;VALUE=DURATION:PT1H
X-Robots-Tag:noindex
X-PUBLISHED-TTL:PT1H
BEGIN:VTIMEZONE
TZID:America/New_York
BEGIN:DAYLIGHT
TZOFFSETFROM:-0500
TZOFFSETTO:-0400
TZNAME:EDT
DTSTART:20180311T070000
END:DAYLIGHT
BEGIN:STANDARD
TZOFFSETFROM:-0400
TZOFFSETTO:-0500
TZNAME:EST
DTSTART:20181104T060000
END:STANDARD
BEGIN:DAYLIGHT
TZOFFSETFROM:-0500
TZOFFSETTO:-0400
TZNAME:EDT
DTSTART:20190310T070000
END:DAYLIGHT
BEGIN:STANDARD
TZOFFSETFROM:-0400
TZOFFSETTO:-0500
TZNAME:EST
DTSTART:20191103T060000
END:STANDARD
BEGIN:DAYLIGHT
TZOFFSETFROM:-0500
TZOFFSETTO:-0400
TZNAME:EDT
DTSTART:20200308T070000
END:DAYLIGHT
BEGIN:STANDARD
TZOFFSETFROM:-0400
TZOFFSETTO:-0500
TZNAME:EST
DTSTART:20201101T060000
END:STANDARD
END:VTIMEZONE
BEGIN:VEVENT
DTSTART;TZID=America/New_York:20190226T140000
DTEND;TZID=America/New_York:20190226T150000
DTSTAMP:20260422T153700
CREATED:20190110T183836Z
LAST-MODIFIED:20190110T183836Z
UID:76291008-1551189600-1551193200@www.kraftkennedy.com
SUMMARY:ILTA Webinar: Full Service Desktop
DESCRIPTION:Join us as a desktop design expert dispenses crucial lessons learned from managing Windows-as-a-Service update cycles\, implementing the latest security features\, and shares a vision for the future of desktop management. We will discuss the new features and adoption rates of Windows 10 1809\, including the key security measures being adopted such as System Guard\, Application Guard\, Application Control and Exploit Guard\, followed by how law firms are leveraging the Microsoft suite to extend security beyond the PC. \nRequest webinar recording \nRegister for live broadcast* \nKraft Kennedy presenter: \n\n\n\n\n\nChris Owens\nChief Technology Officer | 17 years with Kraft Kennedy\nCitrix CCA | VMware VCP | Interwoven CSA | OpenText CHPChris is the Chief Technology Officer at Kraft Kennedy and Practice Group Leader for the Enterprise Client Systems Group. With over 20 years of consulting and technology management experience\, Chris has helped leading firms with desktop design and management\, server and storage consolidation and collocation\, DR/BC\, email messaging design and migration\, document management\, and hybrid/thin-client architecture.\n\n\n\n\n  \n*$75 fee via ILTA for non-ILTA members for live broadcast\, no charge for post webinar recording
URL:https://www.kraftkennedy.com/event/ilta-webinar-full-service-desktop/
LOCATION:Webinar
ATTACH;FMTTYPE=image/gif:https://www.kraftkennedy.com/wp-content/uploads/2016/09/logo_ilta.gif
END:VEVENT
END:VCALENDAR