BEGIN:VCALENDAR
VERSION:2.0
PRODID:-//Kraft Kennedy - ECPv6.15.20//NONSGML v1.0//EN
CALSCALE:GREGORIAN
METHOD:PUBLISH
X-WR-CALNAME:Kraft Kennedy
X-ORIGINAL-URL:https://www.kraftkennedy.com
X-WR-CALDESC:Events for Kraft Kennedy
REFRESH-INTERVAL;VALUE=DURATION:PT1H
X-Robots-Tag:noindex
X-PUBLISHED-TTL:PT1H
BEGIN:VTIMEZONE
TZID:America/New_York
BEGIN:DAYLIGHT
TZOFFSETFROM:-0500
TZOFFSETTO:-0400
TZNAME:EDT
DTSTART:20220313T070000
END:DAYLIGHT
BEGIN:STANDARD
TZOFFSETFROM:-0400
TZOFFSETTO:-0500
TZNAME:EST
DTSTART:20221106T060000
END:STANDARD
BEGIN:DAYLIGHT
TZOFFSETFROM:-0500
TZOFFSETTO:-0400
TZNAME:EDT
DTSTART:20230312T070000
END:DAYLIGHT
BEGIN:STANDARD
TZOFFSETFROM:-0400
TZOFFSETTO:-0500
TZNAME:EST
DTSTART:20231105T060000
END:STANDARD
BEGIN:DAYLIGHT
TZOFFSETFROM:-0500
TZOFFSETTO:-0400
TZNAME:EDT
DTSTART:20240310T070000
END:DAYLIGHT
BEGIN:STANDARD
TZOFFSETFROM:-0400
TZOFFSETTO:-0500
TZNAME:EST
DTSTART:20241103T060000
END:STANDARD
END:VTIMEZONE
BEGIN:VEVENT
DTSTART;TZID=America/New_York:20230419T160000
DTEND;TZID=America/New_York:20230419T170000
DTSTAMP:20260421T055721
CREATED:20230303T194206Z
LAST-MODIFIED:20230309T154827Z
UID:76302937-1681920000-1681923600@www.kraftkennedy.com
SUMMARY:Cybersecurity with a Twist: Mixology Event
DESCRIPTION:Cybersecurity With a Twist: A Mixology Event\nWhen: Wednesday\, April 19\, 2023  |  4:00 PM – 5:00 PM EST\nWhere: Hybrid Event\nRequest registration link. \nRoll up your sleeves and prepare to dive right into the 60 minute event that will have you mixing a fresh cocktail under the direction of a professional mixologist! While sipping the fruits of your labor\, attendees will gain cybersecurity insights that will position you to be ‘future-ready’. \nLearn the steps leading organizations are taking on the cybersecurity front including: \n\nConsolidating tools to drive efficiency and protect your firm’s bottom line.\nHow to ensure your Incident Response Plan is robust enough for the current landscape.\n\nWhether you choose to attend in person at Kraft Kennedy headquarters in midtown NYC\, or as a virtual attendee from the comfort of your desk\, this hands-on mixology event with Kraft Kennedy’s newest Cybersecurity partner\, Arctic Wolf will be fun\, interactive and informative. \nRegistration for this special event closes April 5th to allow time for the Bubble Tap ingredients and tools kit to ship to attendees. \n \nViewer’s Choice: \nIn-person attendees will automatically have their kits delivered to Kraft Kennedy 630 Third Avenue @ 41st. \nVirtual attendees will provide a desired shipping address and the Bubble Tap Mixology box will arrive in advance of the event. \nWe anticipate this event filling quickly. This invitation does not guarantee your spot\, you must complete registration to secure your ticket. \nInterested in attending more Kraft Kennedy Events? Take a look at our upcoming events.
URL:https://www.kraftkennedy.com/event/cybersecurity-with-a-twist-mixology-event/
CATEGORIES:Live Events,Virtual
ATTACH;FMTTYPE=image/jpeg:https://www.kraftkennedy.com/wp-content/uploads/2023/03/Cyber-Security-on-the-rocks-kk-and-artic-wolf-01-scaled-e1678376894652.jpg
END:VEVENT
END:VCALENDAR