BEGIN:VCALENDAR
VERSION:2.0
PRODID:-//Kraft Kennedy - ECPv6.15.20//NONSGML v1.0//EN
CALSCALE:GREGORIAN
METHOD:PUBLISH
X-WR-CALNAME:Kraft Kennedy
X-ORIGINAL-URL:https://www.kraftkennedy.com
X-WR-CALDESC:Events for Kraft Kennedy
REFRESH-INTERVAL;VALUE=DURATION:PT1H
X-Robots-Tag:noindex
X-PUBLISHED-TTL:PT1H
BEGIN:VTIMEZONE
TZID:America/New_York
BEGIN:DAYLIGHT
TZOFFSETFROM:-0500
TZOFFSETTO:-0400
TZNAME:EDT
DTSTART:20240310T070000
END:DAYLIGHT
BEGIN:STANDARD
TZOFFSETFROM:-0400
TZOFFSETTO:-0500
TZNAME:EST
DTSTART:20241103T060000
END:STANDARD
BEGIN:DAYLIGHT
TZOFFSETFROM:-0500
TZOFFSETTO:-0400
TZNAME:EDT
DTSTART:20250309T070000
END:DAYLIGHT
BEGIN:STANDARD
TZOFFSETFROM:-0400
TZOFFSETTO:-0500
TZNAME:EST
DTSTART:20251102T060000
END:STANDARD
BEGIN:DAYLIGHT
TZOFFSETFROM:-0500
TZOFFSETTO:-0400
TZNAME:EDT
DTSTART:20260308T070000
END:DAYLIGHT
BEGIN:STANDARD
TZOFFSETFROM:-0400
TZOFFSETTO:-0500
TZNAME:EST
DTSTART:20261101T060000
END:STANDARD
END:VTIMEZONE
BEGIN:VEVENT
DTSTART;TZID=America/New_York:20250916T173000
DTEND;TZID=America/New_York:20250916T200000
DTSTAMP:20260425T180829
CREATED:20250829T144353Z
LAST-MODIFIED:20250829T144353Z
UID:76306836-1758043800-1758052800@www.kraftkennedy.com
SUMMARY:Cocktails & City Lights
DESCRIPTION:Cocktails & City Lights\nKraft Kennedy is kicking off the fall season with a fun-filled evening at our Midtown office. Join your Association of Administrators (ALA) NYC friends and peers for an evening of craft cocktails\, light bites\, and a special educational twist you won’t want to miss! \nRegister here\nWhen: Tuesday\, September 16\, 2025  |  5:30 PM – 8:00 PM\nWhere: Kraft Kennedy Terrace \nStay in the know about our ALA activities and more – subscribe here.\nFollow us on LinkedIn and check out our upcoming events.
URL:https://www.kraftkennedy.com/event/cocktails-city-lights/
LOCATION:Kraft Kennedy NYC Terrace\, 630 Third Avenue\, 14th Floor\, New York\, NY\, 10017\, United States
CATEGORIES:ALA,Live Events
ATTACH;FMTTYPE=image/jpeg:https://www.kraftkennedy.com/wp-content/uploads/2025/07/ALA-NYC-and-Kraft-Kennedy-Sept-2025-Cocktails-and-City-Lights-9_16_25-scaled.jpg
END:VEVENT
END:VCALENDAR