BEGIN:VCALENDAR
VERSION:2.0
PRODID:-//Kraft Kennedy - ECPv6.15.20//NONSGML v1.0//EN
CALSCALE:GREGORIAN
METHOD:PUBLISH
X-WR-CALNAME:Kraft Kennedy
X-ORIGINAL-URL:https://www.kraftkennedy.com
X-WR-CALDESC:Events for Kraft Kennedy
REFRESH-INTERVAL;VALUE=DURATION:PT1H
X-Robots-Tag:noindex
X-PUBLISHED-TTL:PT1H
BEGIN:VTIMEZONE
TZID:America/New_York
BEGIN:DAYLIGHT
TZOFFSETFROM:-0500
TZOFFSETTO:-0400
TZNAME:EDT
DTSTART:20180311T070000
END:DAYLIGHT
BEGIN:STANDARD
TZOFFSETFROM:-0400
TZOFFSETTO:-0500
TZNAME:EST
DTSTART:20181104T060000
END:STANDARD
BEGIN:DAYLIGHT
TZOFFSETFROM:-0500
TZOFFSETTO:-0400
TZNAME:EDT
DTSTART:20190310T070000
END:DAYLIGHT
BEGIN:STANDARD
TZOFFSETFROM:-0400
TZOFFSETTO:-0500
TZNAME:EST
DTSTART:20191103T060000
END:STANDARD
BEGIN:DAYLIGHT
TZOFFSETFROM:-0500
TZOFFSETTO:-0400
TZNAME:EDT
DTSTART:20200308T070000
END:DAYLIGHT
BEGIN:STANDARD
TZOFFSETFROM:-0400
TZOFFSETTO:-0500
TZNAME:EST
DTSTART:20201101T060000
END:STANDARD
END:VTIMEZONE
BEGIN:VEVENT
DTSTART;TZID=America/New_York:20190923T110000
DTEND;TZID=America/New_York:20190923T120000
DTSTAMP:20260422T173805
CREATED:20190802T214134Z
LAST-MODIFIED:20190802T214134Z
UID:76293006-1569236400-1569240000@www.kraftkennedy.com
SUMMARY:Best of ILTACON 2019: A Recap Webinar
DESCRIPTION:Join Kraft Kennedy as we present highlights from the 2019 ILTACON presentations. \n \nREGISTER HERE
URL:https://www.kraftkennedy.com/event/best-of-iltacon-2019-a-recap-webinar/
LOCATION:Webinar
ATTACH;FMTTYPE=image/jpeg:https://www.kraftkennedy.com/wp-content/uploads/2019/08/BestofILTACON19-500.jpg
END:VEVENT
END:VCALENDAR