BEGIN:VCALENDAR
VERSION:2.0
PRODID:-//Kraft Kennedy - ECPv6.15.20//NONSGML v1.0//EN
CALSCALE:GREGORIAN
METHOD:PUBLISH
X-WR-CALNAME:Kraft Kennedy
X-ORIGINAL-URL:https://www.kraftkennedy.com
X-WR-CALDESC:Events for Kraft Kennedy
REFRESH-INTERVAL;VALUE=DURATION:PT1H
X-Robots-Tag:noindex
X-PUBLISHED-TTL:PT1H
BEGIN:VTIMEZONE
TZID:America/New_York
BEGIN:DAYLIGHT
TZOFFSETFROM:-0500
TZOFFSETTO:-0400
TZNAME:EDT
DTSTART:20240310T070000
END:DAYLIGHT
BEGIN:STANDARD
TZOFFSETFROM:-0400
TZOFFSETTO:-0500
TZNAME:EST
DTSTART:20241103T060000
END:STANDARD
BEGIN:DAYLIGHT
TZOFFSETFROM:-0500
TZOFFSETTO:-0400
TZNAME:EDT
DTSTART:20250309T070000
END:DAYLIGHT
BEGIN:STANDARD
TZOFFSETFROM:-0400
TZOFFSETTO:-0500
TZNAME:EST
DTSTART:20251102T060000
END:STANDARD
BEGIN:DAYLIGHT
TZOFFSETFROM:-0500
TZOFFSETTO:-0400
TZNAME:EDT
DTSTART:20260308T070000
END:DAYLIGHT
BEGIN:STANDARD
TZOFFSETFROM:-0400
TZOFFSETTO:-0500
TZNAME:EST
DTSTART:20261101T060000
END:STANDARD
END:VTIMEZONE
BEGIN:VEVENT
DTSTART;TZID=America/New_York:20250715T180000
DTEND;TZID=America/New_York:20250715T210000
DTSTAMP:20260422T091944
CREATED:20250516T170817Z
LAST-MODIFIED:20250701T144229Z
UID:76306470-1752602400-1752613200@www.kraftkennedy.com
SUMMARY:ALA NYC Summer Party
DESCRIPTION:ALA NYC Summer Party\nThe Kraft Kennedy team looks forward to an evening of conversation\, connection\, and celebrating summer with Association of Legal Administrators (ALA) NYC friends. \nWhen: Tuesday\, July 15\, 2025  |  6:00 PM – 9:00 PM\nWhere: The Kimberly Hotel Rooftop \nStay in the know about our ALA activities and more – subscribe here.\nFollow us on LinkedIn and check out our upcoming events.
URL:https://www.kraftkennedy.com/event/ala-nyc-summer-party/
CATEGORIES:ALA,Live Events
ATTACH;FMTTYPE=image/png:https://www.kraftkennedy.com/wp-content/uploads/2025/05/ALA-NYC-July-2025-Summer-Party-7_15_25.png
END:VEVENT
END:VCALENDAR