BEGIN:VCALENDAR
VERSION:2.0
PRODID:-//Kraft Kennedy - ECPv6.15.20//NONSGML v1.0//EN
CALSCALE:GREGORIAN
METHOD:PUBLISH
X-WR-CALNAME:Kraft Kennedy
X-ORIGINAL-URL:https://www.kraftkennedy.com
X-WR-CALDESC:Events for Kraft Kennedy
REFRESH-INTERVAL;VALUE=DURATION:PT1H
X-Robots-Tag:noindex
X-PUBLISHED-TTL:PT1H
BEGIN:VTIMEZONE
TZID:America/New_York
BEGIN:DAYLIGHT
TZOFFSETFROM:-0500
TZOFFSETTO:-0400
TZNAME:EDT
DTSTART:20210314T070000
END:DAYLIGHT
BEGIN:STANDARD
TZOFFSETFROM:-0400
TZOFFSETTO:-0500
TZNAME:EST
DTSTART:20211107T060000
END:STANDARD
BEGIN:DAYLIGHT
TZOFFSETFROM:-0500
TZOFFSETTO:-0400
TZNAME:EDT
DTSTART:20220313T070000
END:DAYLIGHT
BEGIN:STANDARD
TZOFFSETFROM:-0400
TZOFFSETTO:-0500
TZNAME:EST
DTSTART:20221106T060000
END:STANDARD
BEGIN:DAYLIGHT
TZOFFSETFROM:-0500
TZOFFSETTO:-0400
TZNAME:EDT
DTSTART:20230312T070000
END:DAYLIGHT
BEGIN:STANDARD
TZOFFSETFROM:-0400
TZOFFSETTO:-0500
TZNAME:EST
DTSTART:20231105T060000
END:STANDARD
END:VTIMEZONE
BEGIN:VEVENT
DTSTART;TZID=America/New_York:20221027T120000
DTEND;TZID=America/New_York:20221027T210000
DTSTAMP:20260422T120553
CREATED:20220916T150951Z
LAST-MODIFIED:20220916T150951Z
UID:76302217-1666872000-1666904400@www.kraftkennedy.com
SUMMARY:ALA Dallas Golf & Casino Event 2022
DESCRIPTION:Kraft Kennedy looks forward to a day on the greens with the Association of Legal Administrators (ALA) Dallas for the 2022 Golf and Casino Event. \nWhen: Thursday\, October\, 27\, 2022  |  12:00 PM – 9:00 PM CDT\nWhere: The Golf Club of Dallas
URL:https://www.kraftkennedy.com/event/ala-dallas-golf-casino-event-2022/
LOCATION:The Golf Club of Dallas\, 2200 West Red Bird Lane\, Dallas\, TX\, 75232\, United States
CATEGORIES:ALA,Live Events
ATTACH;FMTTYPE=image/jpeg:https://www.kraftkennedy.com/wp-content/uploads/2022/09/ALA-DALLAS-2022-GOLF-AND-CASINO-EVENT-scaled-e1663090072342.jpg
END:VEVENT
END:VCALENDAR