BEGIN:VCALENDAR
VERSION:2.0
PRODID:-//Kraft Kennedy - ECPv6.15.20//NONSGML v1.0//EN
CALSCALE:GREGORIAN
METHOD:PUBLISH
X-WR-CALNAME:Kraft Kennedy
X-ORIGINAL-URL:https://www.kraftkennedy.com
X-WR-CALDESC:Events for Kraft Kennedy
REFRESH-INTERVAL;VALUE=DURATION:PT1H
X-Robots-Tag:noindex
X-PUBLISHED-TTL:PT1H
BEGIN:VTIMEZONE
TZID:America/Chicago
BEGIN:DAYLIGHT
TZOFFSETFROM:-0600
TZOFFSETTO:-0500
TZNAME:CDT
DTSTART:20240310T080000
END:DAYLIGHT
BEGIN:STANDARD
TZOFFSETFROM:-0500
TZOFFSETTO:-0600
TZNAME:CST
DTSTART:20241103T070000
END:STANDARD
BEGIN:DAYLIGHT
TZOFFSETFROM:-0600
TZOFFSETTO:-0500
TZNAME:CDT
DTSTART:20250309T080000
END:DAYLIGHT
BEGIN:STANDARD
TZOFFSETFROM:-0500
TZOFFSETTO:-0600
TZNAME:CST
DTSTART:20251102T070000
END:STANDARD
BEGIN:DAYLIGHT
TZOFFSETFROM:-0600
TZOFFSETTO:-0500
TZNAME:CDT
DTSTART:20260308T080000
END:DAYLIGHT
BEGIN:STANDARD
TZOFFSETFROM:-0500
TZOFFSETTO:-0600
TZNAME:CST
DTSTART:20261101T070000
END:STANDARD
END:VTIMEZONE
BEGIN:VEVENT
DTSTART;TZID=America/Chicago:20251008T133000
DTEND;TZID=America/Chicago:20251008T183000
DTSTAMP:20260425T072007
CREATED:20250926T132727Z
LAST-MODIFIED:20251001T203612Z
UID:76307088-1759930200-1759948200@www.kraftkennedy.com
SUMMARY:ALA Chicago Elevate
DESCRIPTION:ALA Chicago Elevate\nTracy Kraft\, Savannah Cameron\, and the Association of Legal Administrators (ALA) community will gather for a half-day of exchanging knowledge\, practical insights and connecting with peers through hands-on problem-solving and interactive activities at Elevate. \nWhen: Wednesday\, October 8\, 2025  |  1:30 PM – 6:30 PM\nWhere: Baker & McKenzie \nStay in the know about our ALA activities and more – subscribe here.\nFollow us on LinkedIn and check out our upcoming events.
URL:https://www.kraftkennedy.com/event/ala-chicago-elevate/
CATEGORIES:ALA,Live Events
ATTACH;FMTTYPE=image/jpeg:https://www.kraftkennedy.com/wp-content/uploads/2025/09/ALA-Chicago-October-2025-Elevate-10_8_25.jpg
END:VEVENT
END:VCALENDAR