BEGIN:VCALENDAR
VERSION:2.0
PRODID:-//Kraft Kennedy - ECPv6.15.20//NONSGML v1.0//EN
CALSCALE:GREGORIAN
METHOD:PUBLISH
X-WR-CALNAME:Kraft Kennedy
X-ORIGINAL-URL:https://www.kraftkennedy.com
X-WR-CALDESC:Events for Kraft Kennedy
REFRESH-INTERVAL;VALUE=DURATION:PT1H
X-Robots-Tag:noindex
X-PUBLISHED-TTL:PT1H
BEGIN:VTIMEZONE
TZID:America/New_York
BEGIN:DAYLIGHT
TZOFFSETFROM:-0500
TZOFFSETTO:-0400
TZNAME:EDT
DTSTART:20240310T070000
END:DAYLIGHT
BEGIN:STANDARD
TZOFFSETFROM:-0400
TZOFFSETTO:-0500
TZNAME:EST
DTSTART:20241103T060000
END:STANDARD
BEGIN:DAYLIGHT
TZOFFSETFROM:-0500
TZOFFSETTO:-0400
TZNAME:EDT
DTSTART:20250309T070000
END:DAYLIGHT
BEGIN:STANDARD
TZOFFSETFROM:-0400
TZOFFSETTO:-0500
TZNAME:EST
DTSTART:20251102T060000
END:STANDARD
BEGIN:DAYLIGHT
TZOFFSETFROM:-0500
TZOFFSETTO:-0400
TZNAME:EDT
DTSTART:20260308T070000
END:DAYLIGHT
BEGIN:STANDARD
TZOFFSETFROM:-0400
TZOFFSETTO:-0500
TZNAME:EST
DTSTART:20261101T060000
END:STANDARD
END:VTIMEZONE
BEGIN:VEVENT
DTSTART;TZID=America/New_York:20250930T163000
DTEND;TZID=America/New_York:20250930T193000
DTSTAMP:20260422T081420
CREATED:20250904T182911Z
LAST-MODIFIED:20250926T161928Z
UID:76306989-1759249800-1759260600@www.kraftkennedy.com
SUMMARY:ALA Chicago BP Appreciation Event
DESCRIPTION:ALA Chicago BP Appreciation Event\nSara Zezza and Cynthia Riccolo will gather with Association of Legal Administrators (ALA) Chicago for an evening dedicated to celebration\, meaningful networking\, recognition\, and connection. This event will feature exceptional food\, drinks\, and the iconic sounds of Nancy Faust—legendary organist of the Chicago White Sox—providing live background music and photo opportunities. \nNancy Faust is a legendary sports organist best known for her 41-year career with the Chicago White Sox\, where she revolutionized the ballpark experience by introducing walk-up music and energizing fans with her spontaneous\, crowd-driven performances. From her perch at Comiskey Park\, she blended pop and rock themes into traditional organ music\, helping popularize the seventh-inning stretch singalong of “Take Me Out to the Ballgame.” Her contributions to baseball have earned her a place in the Baseball Reliquary’s Shrine of the Eternals and recognition in the National Baseball Hall of Fame’s “Women in Baseball” exhibit. \nWhen: Thursday\, September 30\, 2025  |  4:30 PM – 7:30 PM\nWhere: The Dalcy \nStay in the know about our ALA activities and more – subscribe here.\nFollow us on LinkedIn and check out our upcoming events.
URL:https://www.kraftkennedy.com/event/ala-chicago-bp-appreciation-event/
CATEGORIES:ALA,Live Events
ATTACH;FMTTYPE=image/jpeg:https://www.kraftkennedy.com/wp-content/uploads/2025/09/ALA-Chicago-Sept-2025-BP-Appreciation-Event-9_30_25-scaled.jpg
END:VEVENT
END:VCALENDAR