BEGIN:VCALENDAR
VERSION:2.0
PRODID:-//Kraft Kennedy - ECPv6.15.20//NONSGML v1.0//EN
CALSCALE:GREGORIAN
METHOD:PUBLISH
X-WR-CALNAME:Kraft Kennedy
X-ORIGINAL-URL:https://www.kraftkennedy.com
X-WR-CALDESC:Events for Kraft Kennedy
REFRESH-INTERVAL;VALUE=DURATION:PT1H
X-Robots-Tag:noindex
X-PUBLISHED-TTL:PT1H
BEGIN:VTIMEZONE
TZID:America/New_York
BEGIN:DAYLIGHT
TZOFFSETFROM:-0500
TZOFFSETTO:-0400
TZNAME:EDT
DTSTART:20230312T070000
END:DAYLIGHT
BEGIN:STANDARD
TZOFFSETFROM:-0400
TZOFFSETTO:-0500
TZNAME:EST
DTSTART:20231105T060000
END:STANDARD
BEGIN:DAYLIGHT
TZOFFSETFROM:-0500
TZOFFSETTO:-0400
TZNAME:EDT
DTSTART:20240310T070000
END:DAYLIGHT
BEGIN:STANDARD
TZOFFSETFROM:-0400
TZOFFSETTO:-0500
TZNAME:EST
DTSTART:20241103T060000
END:STANDARD
BEGIN:DAYLIGHT
TZOFFSETFROM:-0500
TZOFFSETTO:-0400
TZNAME:EDT
DTSTART:20250309T070000
END:DAYLIGHT
BEGIN:STANDARD
TZOFFSETFROM:-0400
TZOFFSETTO:-0500
TZNAME:EST
DTSTART:20251102T060000
END:STANDARD
END:VTIMEZONE
BEGIN:VEVENT
DTSTART;TZID=America/New_York:20240201T173000
DTEND;TZID=America/New_York:20240201T193000
DTSTAMP:20260421T055805
CREATED:20240131T195429Z
LAST-MODIFIED:20240131T195429Z
UID:76304616-1706808600-1706815800@www.kraftkennedy.com
SUMMARY:ALA Central Florida Business Partner Appreciation Event
DESCRIPTION:ALA Central Florida Business Partner Appreciation Event\nCaesar is ready to bowl the night away with Association of Lagal Administrators (ALA) Central Florida friends and peers during the Kraft Kennedy sponsored Business Partner Appreciation Event. \nWhen: Thursday\, February 1\, 2024  |  5:30 PM – 7:30 PM\nWhere: Primrose Lanes\nRegister here. \nTake a look at our upcoming events.
URL:https://www.kraftkennedy.com/event/ala-central-florida-business-partner-appreciation-event/
CATEGORIES:ALA,Live Events
ATTACH;FMTTYPE=image/jpeg:https://www.kraftkennedy.com/wp-content/uploads/2024/01/alacf-bp-appreciation-event-feb-1.jpg
END:VEVENT
END:VCALENDAR