BEGIN:VCALENDAR
VERSION:2.0
PRODID:-//Kraft Kennedy - ECPv6.15.20//NONSGML v1.0//EN
CALSCALE:GREGORIAN
METHOD:PUBLISH
X-WR-CALNAME:Kraft Kennedy
X-ORIGINAL-URL:https://www.kraftkennedy.com
X-WR-CALDESC:Events for Kraft Kennedy
REFRESH-INTERVAL;VALUE=DURATION:PT1H
X-Robots-Tag:noindex
X-PUBLISHED-TTL:PT1H
BEGIN:VTIMEZONE
TZID:America/New_York
BEGIN:DAYLIGHT
TZOFFSETFROM:-0500
TZOFFSETTO:-0400
TZNAME:EDT
DTSTART:20240310T070000
END:DAYLIGHT
BEGIN:STANDARD
TZOFFSETFROM:-0400
TZOFFSETTO:-0500
TZNAME:EST
DTSTART:20241103T060000
END:STANDARD
BEGIN:DAYLIGHT
TZOFFSETFROM:-0500
TZOFFSETTO:-0400
TZNAME:EDT
DTSTART:20250309T070000
END:DAYLIGHT
BEGIN:STANDARD
TZOFFSETFROM:-0400
TZOFFSETTO:-0500
TZNAME:EST
DTSTART:20251102T060000
END:STANDARD
BEGIN:DAYLIGHT
TZOFFSETFROM:-0500
TZOFFSETTO:-0400
TZNAME:EDT
DTSTART:20260308T070000
END:DAYLIGHT
BEGIN:STANDARD
TZOFFSETFROM:-0400
TZOFFSETTO:-0500
TZNAME:EST
DTSTART:20261101T060000
END:STANDARD
END:VTIMEZONE
BEGIN:VEVENT
DTSTART;TZID=America/New_York:20250325T120000
DTEND;TZID=America/New_York:20250325T140000
DTSTAMP:20260425T062444
CREATED:20250224T211949Z
LAST-MODIFIED:20250224T211949Z
UID:76305988-1742904000-1742911200@www.kraftkennedy.com
SUMMARY:ALA Capital Chapter Luncheon
DESCRIPTION:ALA Capital Chapter Change of Gavel Luncheon\nStacy and Association of Legal Administrators (ALA) Capital Chapter friends and members will gather for a mid-day Change of Gavel Luncheon celebrating outgoing leadership and the installation of new officers and board members. \nWhen: Tuesday\, March 25\, 2025  |  12:00 PM – 2:00 PM\nWhere: Joe’s Seafood\, Prime Steak & Stone Crab \nCheck out our upcoming events.
URL:https://www.kraftkennedy.com/event/ala-capital-chapter-luncheon/
CATEGORIES:ALA,Live Events
ATTACH;FMTTYPE=image/png:https://www.kraftkennedy.com/wp-content/uploads/2025/02/ALA-Cap-Chap-Change-of-Gavel-Luncheon.png
END:VEVENT
END:VCALENDAR