BEGIN:VCALENDAR
VERSION:2.0
PRODID:-//Kraft Kennedy - ECPv6.15.20//NONSGML v1.0//EN
CALSCALE:GREGORIAN
METHOD:PUBLISH
X-WR-CALNAME:Kraft Kennedy
X-ORIGINAL-URL:https://www.kraftkennedy.com
X-WR-CALDESC:Events for Kraft Kennedy
REFRESH-INTERVAL;VALUE=DURATION:PT1H
X-Robots-Tag:noindex
X-PUBLISHED-TTL:PT1H
BEGIN:VTIMEZONE
TZID:America/New_York
BEGIN:DAYLIGHT
TZOFFSETFROM:-0500
TZOFFSETTO:-0400
TZNAME:EDT
DTSTART:20230312T070000
END:DAYLIGHT
BEGIN:STANDARD
TZOFFSETFROM:-0400
TZOFFSETTO:-0500
TZNAME:EST
DTSTART:20231105T060000
END:STANDARD
BEGIN:DAYLIGHT
TZOFFSETFROM:-0500
TZOFFSETTO:-0400
TZNAME:EDT
DTSTART:20240310T070000
END:DAYLIGHT
BEGIN:STANDARD
TZOFFSETFROM:-0400
TZOFFSETTO:-0500
TZNAME:EST
DTSTART:20241103T060000
END:STANDARD
BEGIN:DAYLIGHT
TZOFFSETFROM:-0500
TZOFFSETTO:-0400
TZNAME:EDT
DTSTART:20250309T070000
END:DAYLIGHT
BEGIN:STANDARD
TZOFFSETFROM:-0400
TZOFFSETTO:-0500
TZNAME:EST
DTSTART:20251102T060000
END:STANDARD
END:VTIMEZONE
BEGIN:VEVENT
DTSTART;TZID=America/New_York:20241212T180000
DTEND;TZID=America/New_York:20241212T210000
DTSTAMP:20260422T092017
CREATED:20241210T152306Z
LAST-MODIFIED:20241210T152306Z
UID:76305767-1734026400-1734037200@www.kraftkennedy.com
SUMMARY:ALA Capital Chapter Holiday Soiree
DESCRIPTION:ALA Capital Chapter Holiday Soiree & Silent Auction\nAccount Executive\, Stacy Jenkins\, and Support Lead\, Rob Schleihauf\, will gather with Association of Legal Administrators (ALA) Capital Chapter friends for a Holiday Soiree & Silent Auction benefiting the Toni K. Allen Scholarship fund. Each year\, the ALA Capital Chapter Foundation provides scholarships to worthy students from DC public schools. \nWhen: Thursday\, December 12\, 2024  |  6:00 PM – 9:00 PM\nWhere: Fairmont Washington DC \nCheck out our upcoming events.
URL:https://www.kraftkennedy.com/event/ala-capital-chapter-holiday-soiree-2/
CATEGORIES:ALA,Live Events
ATTACH;FMTTYPE=image/jpeg:https://www.kraftkennedy.com/wp-content/uploads/2024/12/ALA-Capital-Chapter-Holiday-Soiree-scaled.jpg
END:VEVENT
END:VCALENDAR