BEGIN:VCALENDAR
VERSION:2.0
PRODID:-//Kraft Kennedy - ECPv6.15.20//NONSGML v1.0//EN
CALSCALE:GREGORIAN
METHOD:PUBLISH
X-WR-CALNAME:Kraft Kennedy
X-ORIGINAL-URL:https://www.kraftkennedy.com
X-WR-CALDESC:Events for Kraft Kennedy
REFRESH-INTERVAL;VALUE=DURATION:PT1H
X-Robots-Tag:noindex
X-PUBLISHED-TTL:PT1H
BEGIN:VTIMEZONE
TZID:America/New_York
BEGIN:DAYLIGHT
TZOFFSETFROM:-0500
TZOFFSETTO:-0400
TZNAME:EDT
DTSTART:20210314T070000
END:DAYLIGHT
BEGIN:STANDARD
TZOFFSETFROM:-0400
TZOFFSETTO:-0500
TZNAME:EST
DTSTART:20211107T060000
END:STANDARD
BEGIN:DAYLIGHT
TZOFFSETFROM:-0500
TZOFFSETTO:-0400
TZNAME:EDT
DTSTART:20220313T070000
END:DAYLIGHT
BEGIN:STANDARD
TZOFFSETFROM:-0400
TZOFFSETTO:-0500
TZNAME:EST
DTSTART:20221106T060000
END:STANDARD
BEGIN:DAYLIGHT
TZOFFSETFROM:-0500
TZOFFSETTO:-0400
TZNAME:EDT
DTSTART:20230312T070000
END:DAYLIGHT
BEGIN:STANDARD
TZOFFSETFROM:-0400
TZOFFSETTO:-0500
TZNAME:EST
DTSTART:20231105T060000
END:STANDARD
END:VTIMEZONE
BEGIN:VEVENT
DTSTART;TZID=America/New_York:20220526T153000
DTEND;TZID=America/New_York:20220526T200000
DTSTAMP:20260422T092020
CREATED:20220511T182447Z
LAST-MODIFIED:20220511T182447Z
UID:76301461-1653579000-1653595200@www.kraftkennedy.com
SUMMARY:ALA Boston Thompson Island Outward Bound 4K Trail Run
DESCRIPTION:Kraft Kennedy will be running (and walking) with our Association of Legal Administrators (ALA) Boston friends in support of Thompson Island Outward Bound\, an educational program for Boston public middle and high school students. \nLet us know if you’re interested in any of our upcoming events. \n#ALABuzz #legaltech #legalinnovation #lawfirms #lawtech #legalservices #legaltechnology
URL:https://www.kraftkennedy.com/event/ala-boston-thompson-island-outward-bound-4k-trail-run/
LOCATION:Thompson Island\, Boston\, MA\, United States
CATEGORIES:ALA,Live Events
ATTACH;FMTTYPE=image/jpeg:https://www.kraftkennedy.com/wp-content/uploads/2022/05/ALA-Boston-4K-Trail-Run-01-scaled-e1651690418316.jpg
END:VEVENT
END:VCALENDAR