BEGIN:VCALENDAR
VERSION:2.0
PRODID:-//Kraft Kennedy - ECPv6.15.20//NONSGML v1.0//EN
CALSCALE:GREGORIAN
METHOD:PUBLISH
X-WR-CALNAME:Kraft Kennedy
X-ORIGINAL-URL:https://www.kraftkennedy.com
X-WR-CALDESC:Events for Kraft Kennedy
REFRESH-INTERVAL;VALUE=DURATION:PT1H
X-Robots-Tag:noindex
X-PUBLISHED-TTL:PT1H
BEGIN:VTIMEZONE
TZID:America/New_York
BEGIN:DAYLIGHT
TZOFFSETFROM:-0500
TZOFFSETTO:-0400
TZNAME:EDT
DTSTART:20210314T070000
END:DAYLIGHT
BEGIN:STANDARD
TZOFFSETFROM:-0400
TZOFFSETTO:-0500
TZNAME:EST
DTSTART:20211107T060000
END:STANDARD
BEGIN:DAYLIGHT
TZOFFSETFROM:-0500
TZOFFSETTO:-0400
TZNAME:EDT
DTSTART:20220313T070000
END:DAYLIGHT
BEGIN:STANDARD
TZOFFSETFROM:-0400
TZOFFSETTO:-0500
TZNAME:EST
DTSTART:20221106T060000
END:STANDARD
BEGIN:DAYLIGHT
TZOFFSETFROM:-0500
TZOFFSETTO:-0400
TZNAME:EDT
DTSTART:20230312T070000
END:DAYLIGHT
BEGIN:STANDARD
TZOFFSETFROM:-0400
TZOFFSETTO:-0500
TZNAME:EST
DTSTART:20231105T060000
END:STANDARD
END:VTIMEZONE
BEGIN:VEVENT
DTSTART;TZID=America/New_York:20220915T113000
DTEND;TZID=America/New_York:20220915T140000
DTSTAMP:20260423T074809
CREATED:20220810T182657Z
LAST-MODIFIED:20220810T182657Z
UID:76302047-1663241400-1663250400@www.kraftkennedy.com
SUMMARY:ALA Boston Quarterly Event: September 2022
DESCRIPTION:Kraft Kennedy will gather with the Association of Legal Administrators (ALA) Boston  for the Quarterly Event: September 2022\nRegister here. \nWhen: Thursday\, September 15\, 2022  |  11:30 AM – 2:00 PM\nWhere: The Ritz-Carlton Boston
URL:https://www.kraftkennedy.com/event/ala-boston-quarterly-event-september-2022/
LOCATION:Ritz-Carlton Boston\, 10 Avery Street\, Boston\, MA\, 02111\, United States
CATEGORIES:ALA,Live Events
ATTACH;FMTTYPE=image/jpeg:https://www.kraftkennedy.com/wp-content/uploads/2022/08/ALA-Boston-September-2022-Quarterly-Event-01-scaled-e1660152160701.jpg
END:VEVENT
END:VCALENDAR